BEGIN:VCALENDAR
VERSION:2.0
PRODID:-//ChamberMaster//Event Calendar 2.0//EN
METHOD:PUBLISH
X-PUBLISHED-TTL:P3D
REFRESH-INTERVAL:P3D
CALSCALE:GREGORIAN
BEGIN:VEVENT
DTSTART:20211218T150000Z
DTEND:20211218T190000Z
X-MICROSOFT-CDO-ALLDAYEVENT:FALSE
SUMMARY:Gift Wrapping Fundraiser for Southern Garrett Marching Band
DESCRIPTION:The Marching Band will be hosting a gift wrapping fundraiser on December 18\, 2021 from 10:00 am to 2:00 pm at Jan's Florist in downtown Oakland. Patrons may bring their gifts to be wrapped. We will be accepting donations that support the ACC award-winning Southern Garrett Marching Band.
X-ALT-DESC;FMTTYPE=text/html:The Marching Band will be hosting a gift wrapping fundraiser on December 18\, 2021 from 10:00 am to 2:00 pm at Jan&#39\;s Florist in downtown Oakland. Patrons may bring their gifts to be wrapped. We will be accepting donations that support the ACC award-winning Southern Garrett Marching Band.
LOCATION:Jan's Florist 114 S 2nd St. Oakland\, MD 21550
UID:e.847.36718
SEQUENCE:3
DTSTAMP:20260420T220641Z
URL:https://members.visitdeepcreek.com/events/details/gift-wrapping-fundraiser-for-southern-garrett-marching-band-36718
END:VEVENT

END:VCALENDAR
