BEGIN:VCALENDAR
VERSION:2.0
PRODID:-//ChamberMaster//Event Calendar 2.0//EN
METHOD:PUBLISH
X-PUBLISHED-TTL:P3D
REFRESH-INTERVAL:P3D
CALSCALE:GREGORIAN
BEGIN:VEVENT
DTSTART:20220820T130000Z
DTEND:20220820T190000Z
X-MICROSOFT-CDO-ALLDAYEVENT:FALSE
SUMMARY:Garrett County Wings & Wheels Fly-In
DESCRIPTION:Come enjoy the static displays of Airplanes\, Classic Cars plus pilot seminars and food at the Garrett County Airport's annual Wings and Wheels Fly In on August 20\, 2022. Admission is free!
X-ALT-DESC;FMTTYPE=text/html:Come enjoy the static displays of Airplanes\, Classic Cars plus pilot seminars and food at the Garrett County Airport&#39\;s annual Wings and Wheels Fly In on August 20\, 2022. Admission is free!<br />\n&nbsp\;
LOCATION:Garrett County Airport
UID:e.847.37916
SEQUENCE:3
DTSTAMP:20260420T110407Z
URL:https://members.visitdeepcreek.com/events/details/garrett-county-wings-wheels-fly-in-37916
END:VEVENT

END:VCALENDAR
