BEGIN:VCALENDAR
VERSION:2.0
PRODID:-//ChamberMaster//Event Calendar 2.0//EN
METHOD:PUBLISH
X-PUBLISHED-TTL:P3D
REFRESH-INTERVAL:P3D
CALSCALE:GREGORIAN
BEGIN:VEVENT
DTSTART:20211027T170000Z
DTEND:20211027T220000Z
X-MICROSOFT-CDO-ALLDAYEVENT:FALSE
SUMMARY:Garrett County Job Fair
DESCRIPTION:The Garrett County Job Fair -- A partnership of Garrett College\, 104.5 KHJ\, 92.3 The Train & 1050 AM WMSG\, the Western Maryland Consortium\, and the Garrett County Department of Business Development -- is designed to connect EMPLOYERS with JOB SEEKERS. The jobs that may be discussed include: Full-time\, Seasonal\, Part-time\, Immediate\, Summer\, and Future Hires.\n\nThe job fair is open to the entire Garrett County Community\, including college and high school students\, entry-level candidates\, and experienced candidates.
X-ALT-DESC;FMTTYPE=text/html:<p>The Garrett County Job Fair -- A partnership of Garrett College\, 104.5 KHJ\, 92.3 The Train &amp\; 1050 AM WMSG\, the Western Maryland Consortium\, and the Garrett County Department of Business Development -- is designed to connect EMPLOYERS with JOB SEEKERS. The jobs that may be discussed include: Full-time\, Seasonal\, Part-time\, Immediate\, Summer\, and Future Hires.</p>\n\n<p>The job fair is open to the entire Garrett County Community\, including college and high school students\, entry-level candidates\, and experienced candidates.</p>\n
LOCATION:Garrett County Fairgrounds Ag Heritage Hall 270 Mosser Road\, McHenry\, MD 21541
UID:e.847.36655
SEQUENCE:3
DTSTAMP:20260421T013142Z
URL:https://members.visitdeepcreek.com/events/details/garrett-county-job-fair-10-27-2021-36655
END:VEVENT

END:VCALENDAR
