BEGIN:VCALENDAR
VERSION:2.0
PRODID:-//ChamberMaster//Event Calendar 2.0//EN
METHOD:PUBLISH
X-PUBLISHED-TTL:P3D
REFRESH-INTERVAL:P3D
CALSCALE:GREGORIAN
BEGIN:VEVENT
DTSTART:20220226T160000Z
DTEND:20220226T190000Z
X-MICROSOFT-CDO-ALLDAYEVENT:FALSE
SUMMARY:Garrett County Fat Tire Bike Series - Ride 2 - Herrington Manor State Park
DESCRIPTION:Welcome to the annual Herrington Manor Fat Bike Ride\; ride #2 in the Garrett County Deep Creek Lake FAT BIKE Ride Series!\n\n \n\nSnow or no\, this ride is a go!\n\n \n\nThis is a beginner ride at Herrington Manor State Park in Oakland. There is a "short" 3-mile ride\, a "long" 9-mile ride\, or the "three x three" as-many-3-mile-laps-as-you-can-in-3-hours ride.\n\n\n\nThis is not a race but\, if you want to go for time\, we will have a timing clock set up.\n\nIf there is snow\, you'll need a bike with fat tires (3.8" or more) but the course will be rideable on a mountain bike! Just don't be surprised if the weather changes at the last minute!\n\n\n\nSave the date but know that the field will be limited to 99!
X-ALT-DESC;FMTTYPE=text/html:<div>Welcome to the annual Herrington Manor Fat Bike Ride\; ride #2 in the Garrett County Deep Creek Lake FAT BIKE Ride Series!<br />\n&nbsp\;</div>\n\n<div><span style="font-size:14px"><strong>Snow or no\, this ride is a go!</strong></span><br />\n&nbsp\;</div>\n\n<div>This is a beginner ride at Herrington Manor State Park in Oakland. There is a &quot\;short&quot\; 3-mile ride\, a &quot\;long&quot\; 9-mile ride\, or the &quot\;three x three&quot\; as-many-3-mile-laps-as-you-can-in-3-hours ride.<br />\n<br />\nThis is not a race but\, if you want to go for time\, we will have a timing clock set up.</div>\n\n<div>If there is snow\, you&#39\;ll need a bike with fat tires (3.8&quot\; or more) but the course will be rideable on a mountain bike! Just don&#39\;t be surprised if the weather changes at the last minute!<br />\n<br />\nSave the date but know that the field will be limited to 99!</div>\n
LOCATION:222 Herrington Manor Lane Oakland\, MD 21550
UID:e.847.36727
SEQUENCE:3
DTSTAMP:20260420T184732Z
URL:https://members.visitdeepcreek.com/events/details/garrett-county-fat-tire-bike-series-ride-2-herrington-manor-state-park-36727
END:VEVENT

END:VCALENDAR
