BEGIN:VCALENDAR
VERSION:2.0
PRODID:-//ChamberMaster//Event Calendar 2.0//EN
METHOD:PUBLISH
X-PUBLISHED-TTL:P3D
REFRESH-INTERVAL:P3D
CALSCALE:GREGORIAN
BEGIN:VEVENT
DTSTART:20220122T160000Z
DTEND:20220122T190000Z
X-MICROSOFT-CDO-ALLDAYEVENT:FALSE
SUMMARY:Garrett County Fat Tire Bike Series - Ride 1 - McHenry
DESCRIPTION:Welcome to the first annual McHenry Fat Bike Ride\; ride #1 in the Garrett County Deep Creek Lake FAT BIKE Ride Series!\n\n \n\nSnow or no\, this ride is a go!\n\n \n\nThis is an INTERMEDIATE ride at the Lion's Club Park in McHenry. There is a "short" 3-mile ride\, a "long" 9-mile ride\, and or the "three x three" as-many-3-mile-laps-as-you-can in 3 hours ride.\n\n\n\nThis is not a race but\, if you want to go for time\, we will have a timing clock set up.\n\nIf there is snow\, you'll need a bike with fat tires (3.8" or more) but the course will be rideable on a mountain bike! Just don't be surprised if the weather changes at the last minute!\n\n\n\nSign up now (the field will be limited to 99!):  https://www.bikereg.com/garrett-county-fat-bike-series-mchenry
X-ALT-DESC;FMTTYPE=text/html:<div>Welcome to the first annual McHenry Fat Bike Ride\; ride #1 in the Garrett County Deep Creek Lake FAT BIKE Ride Series!<br />\n&nbsp\;</div>\n\n<div><span style="font-size:14px"><strong>Snow or no\, this ride is a go!</strong></span><br />\n&nbsp\;</div>\n\n<div>This is an INTERMEDIATE ride at the Lion&#39\;s Club Park in McHenry. There is a &quot\;short&quot\; 3-mile ride\, a &quot\;long&quot\; 9-mile ride\, and or the &quot\;three x three&quot\; as-many-3-mile-laps-as-you-can in 3 hours ride.<br />\n<br />\nThis is not a race but\, if you want to go for time\, we will have a timing clock set up.</div>\n\n<div>If there is snow\, you&#39\;ll need a bike with fat tires (3.8&quot\; or more) but the course will be rideable on a mountain bike! Just don&#39\;t be surprised if the weather changes at the last minute!<br />\n<br />\nSign up now (the field will be limited to 99!):&nbsp\;&nbsp\;<a href="https://www.bikereg.com/garrett-county-fat-bike-series-mchenry">https://www.bikereg.com/garrett-county-fat-bike-series-mchenry</a></div>\n
LOCATION:1249 Bumble Bee Rd McHenry\, MD 21541
UID:e.847.36726
SEQUENCE:3
DTSTAMP:20260420T202644Z
URL:https://members.visitdeepcreek.com/events/details/garrett-county-fat-tire-bike-ride-series-ride-1-mchenry-36726
END:VEVENT

END:VCALENDAR
