BEGIN:VCALENDAR
VERSION:2.0
PRODID:-//ChamberMaster//Event Calendar 2.0//EN
METHOD:PUBLISH
X-PUBLISHED-TTL:P3D
REFRESH-INTERVAL:P3D
CALSCALE:GREGORIAN
BEGIN:VEVENT
DTSTART;VALUE=DATE:20220723
DTEND;VALUE=DATE:20220724
TRANSP:TRANSPARENT
X-MICROSOFT-CDO-ALLDAYEVENT:TRUE
SUMMARY:Garrett County Farm Bureau Mountain Maryland Grill and Chill
DESCRIPTION:Garrett County Farm Bureau will be hosting their third annual Mountain Maryland Grill & Chill. This will be a local event featuring locally sourced beef\, chicken and produce.\n\n \n\nDon't miss out on a good time! We will have a DJ\, mechanical bull\, door prizes\, raffles\, cornhole and milkshakes "with a twist".\n\n \n\nCome and try your milkshake 'with a twist". BYOB. Please drink responsibly. Children must have an accompanying adult. You don't want to miss this fun afternoon
X-ALT-DESC;FMTTYPE=text/html:<div>Garrett County Farm Bureau will be hosting their third annual Mountain Maryland Grill &amp\; Chill. This will be a local event featuring locally sourced beef\, chicken and produce.</div>\n\n<div>&nbsp\;</div>\n\n<div>Don&#39\;t miss out on a good time! We will have a DJ\, mechanical bull\, door prizes\, raffles\, cornhole and milkshakes &quot\;with a twist&quot\;.</div>\n\n<div>&nbsp\;</div>\n\n<div>Come and try your milkshake &#39\;with a twist&quot\;. BYOB. Please drink responsibly. Children must have an accompanying adult. You don&#39\;t want to miss this fun afternoon</div>\n
LOCATION:Three Sisters Farm located at 519 Spear Road\, Accident\, Maryland 21520
UID:e.847.37905
SEQUENCE:3
DTSTAMP:20260420T112504Z
URL:https://members.visitdeepcreek.com/events/details/garrett-county-farm-bureau-mountain-maryland-grill-and-chill-37905
END:VEVENT

END:VCALENDAR
