BEGIN:VCALENDAR
VERSION:2.0
PRODID:-//ChamberMaster//Event Calendar 2.0//EN
METHOD:PUBLISH
X-PUBLISHED-TTL:P3D
REFRESH-INTERVAL:P3D
CALSCALE:GREGORIAN
BEGIN:VEVENT
DTSTART:20220709T170000Z
DTEND:20220709T210000Z
X-MICROSOFT-CDO-ALLDAYEVENT:FALSE
SUMMARY:Garrett County 150th - Victorian Chautauqua
DESCRIPTION:Now\, and throughout 2022\, the sesquicentennial committee is attending each Garrett County municipality's festivals or community events to share\, distribute information\, and offer free giveaways and souvenirs while supplies last.\n\n\n\nOne of the top memento items of note is a bronze coin to represent each of the municipalities: Accident\, Deer Park\, Friendsville\, Grantsville\, Kitzmiller\, Loch Lynn\, Mountain Lake Park\, Oakland. Each of those eight towns participated in designing a custom side of the coin to represent their town paired with the front-side of the coin featuring the county's namesake John W. Garrett.\n\n\n\nGET MT. LAKE PARK'S COMMEMORATIVE COIN AT THIS EVENT!
X-ALT-DESC;FMTTYPE=text/html:Now\, and throughout 2022\, the sesquicentennial committee is attending each Garrett County municipality&rsquo\;s festivals or community events to share\, distribute information\, and offer free giveaways and souvenirs while supplies last.<br />\n<br />\nOne of the top memento items of note is a bronze coin to represent each of the municipalities: Accident\, Deer Park\, Friendsville\, Grantsville\, Kitzmiller\, Loch Lynn\, Mountain Lake Park\, Oakland. Each of those eight towns participated in designing a custom side of the coin to represent their town paired with the front-side of the coin featuring the county&rsquo\;s namesake John W. Garrett.<br />\n<br />\nGET MT. LAKE PARK&#39\;S COMMEMORATIVE COIN AT THIS EVENT!
LOCATION:Mt. Lake Park Chautauqua Festival Area
UID:e.847.37840
SEQUENCE:3
DTSTAMP:20260420T112006Z
URL:https://members.visitdeepcreek.com/events/details/garrett-county-150th-victorian-chautauqua-37840
END:VEVENT

END:VCALENDAR
