BEGIN:VCALENDAR
VERSION:2.0
PRODID:-//ChamberMaster//Event Calendar 2.0//EN
METHOD:PUBLISH
X-PUBLISHED-TTL:P3D
REFRESH-INTERVAL:P3D
CALSCALE:GREGORIAN
BEGIN:VEVENT
DTSTART:20220910T140000Z
DTEND:20220910T170000Z
X-MICROSOFT-CDO-ALLDAYEVENT:FALSE
SUMMARY:Garrett County 150th - Loch Lynn Heights Open House
DESCRIPTION:GET LOCH LYNN HEIGHTS' 150th COMMEMORATIVE COIN AT THIS EVENT!\n\n\n\nNow\, and throughout 2022\, the sesquicentennial committee is attending each Garrett County municipality's festivals or community events to share\, distribute information\, and offer free giveaways and souvenirs while supplies last.\n\n\n\nOne of the top memento items of note is a bronze coin to represent each of the municipalities: Accident\, Deer Park\, Friendsville\, Grantsville\, Kitzmiller\, Loch Lynn\, Mountain Lake Park\, Oakland. Each of those eight towns participated in designing a custom side of the coin to represent their town paired with the front-side of the coin featuring the county's namesake John W. Garrett.
X-ALT-DESC;FMTTYPE=text/html:<span style="color:rgb(76\, 62\, 53)\; font-family:montserrat\,arial\,sans-serif\; font-size:16px">GET LOCH LYNN HEIGHTS&#39\; 150th COMMEMORATIVE COIN AT THIS EVENT!<br />\n<br />\nNow\, and throughout 2022\, the sesquicentennial committee is attending each Garrett County municipality&rsquo\;s festivals or community events to share\, distribute information\, and offer free giveaways and souvenirs while supplies last.</span><br />\n<br />\n<span style="color:rgb(76\, 62\, 53)\; font-family:montserrat\,arial\,sans-serif\; font-size:16px">One of the top memento items of note is a bronze coin to represent each of the municipalities: Accident\, Deer Park\, Friendsville\, Grantsville\, Kitzmiller\, Loch Lynn\, Mountain Lake Park\, Oakland. Each of those eight towns participated in designing a custom side of the coin to represent their town paired with the front-side of the coin featuring the county&rsquo\;s namesake John W. Garrett.</span>
LOCATION:Loch Lynn Heights Town Hall 211 Bonnie Boulevard Loch Lynn Heights\, MD
UID:e.847.37843
SEQUENCE:3
DTSTAMP:20260420T110608Z
URL:https://members.visitdeepcreek.com/events/details/garrett-county-150th-loch-lynn-heights-open-house-37843
END:VEVENT

END:VCALENDAR
