BEGIN:VCALENDAR
VERSION:2.0
PRODID:-//ChamberMaster//Event Calendar 2.0//EN
METHOD:PUBLISH
X-PUBLISHED-TTL:P3D
REFRESH-INTERVAL:P3D
CALSCALE:GREGORIAN
BEGIN:VEVENT
DTSTART:20220917T140000Z
DTEND:20220917T220000Z
X-MICROSOFT-CDO-ALLDAYEVENT:FALSE
SUMMARY:Garrett County 150th - County Celebration
DESCRIPTION:Celebrate the 150th Anniversary of Garrett County! All are welcome on Saturday\, September 17 from 10 am - 6 pm at the Garrett County Fairgrounds in McHenry for music\, history walk\, food\, car show\, artwork displays & more.\n\n\n\nPlus\, collect a commemorative bronze coin for each of the municipalities: Accident\, Deer Park\, Friendsville\, Grantsville\, Kitzmiller\, Loch Lynn\, Mountain Lake Park\, Oakland. Each of those eight towns participated in designing a custom side of the coin to represent their town paired with the front-side of the coin featuring the county's namesake John W. Garrett. Coins will be distributed on September 17th while supplies last\n\n\n\nGARRETT COUNTY 150th COMMUNITY CELEBRATION \n\nFREE Admission / FREE Entertainment / FREE Food\n\nFREE Commemorative Coin Sets (while supplies last)\n\n\n\nEVENT SCHEDULE:\n\n\n\n10:30 am\n\nWelcome\, Main Stage (outside)\n\nCake Cutting\, Main Stage (outside)\n\n\n\n12:00pm\n\nCommemorative Coin Set Giveaway (while supplies last)\n\n\n\n12:00 pm\n\nAgriculture activities and demonstrations\, Quonset Hut\n\n\n\n12:00 pm\n\nStory Telling with local historians\, 4H Building\n\n\n\n1:00pm\n\nBuffalo Run\, Main Stage (outside)\n\n\n\n1:30pm\n\nWomen's Monologues\, Presented by AAUW\, Ag Heritage Hall stage\n\n\n\n2:00pm\n\nJohn W Garrett speaks\, performed by Albert Feldstein\, Ag Heritage Hall stage\n\n\n\n2:30pm\n\nThe Terah Crawford Band\, Main Stage (outside)\n\n\n\n3:00pm\n\nStory Telling with local historians\, 4H Building\n\n\n\n3:30pm\n\nOur Town Theatre\, "Keepsakes"\, Ag Heritage Hall Stage\n\n\n\n4:00pm\n\nAurora Celtic\, Main Stage (outside)\n\n \n\n4:00pm\n\nDAR Bell Ringing\, Quonset Hut\n\n\n\n4:00pm\n\nRobotics Presentation\, Ag Heritage Hall\n\n\n\nALL DAY: \n\nCar Show and Competition\, Top Parking Lot\n\nAntique Tractor Display\, Lower Field\, By Horse Barn\n\nHistory Walk - Ag Heritage Hall\n\nCommissioned Art Display - Ag Heritage Hall\n\nNon Profit and Community Organizations - Quonset Hut\n\nFood Vendors\n\n(Each attendee receives two tickets for free food compliments of the Garrett County Commissioners)
X-ALT-DESC;FMTTYPE=text/html:Celebrate the 150th Anniversary of Garrett County! All are welcome on Saturday\, September 17 from 10 am - 6 pm at the Garrett County Fairgrounds in McHenry for music\, history walk\, food\, car show\, artwork displays &amp\; more.<br />\n<br />\nPlus\, collect a commemorative bronze coin for each of the municipalities: Accident\, Deer Park\, Friendsville\, Grantsville\, Kitzmiller\, Loch Lynn\, Mountain Lake Park\, Oakland. Each of those eight towns participated in designing a custom side of the coin to represent their town paired with the front-side of the coin featuring the county&rsquo\;s namesake John W. Garrett. Coins will be distributed on September 17th while supplies last<br />\n<br />\nGARRETT COUNTY 150th COMMUNITY CELEBRATION&nbsp\;<br />\nFREE Admission / FREE Entertainment / FREE Food<br />\nFREE Commemorative Coin Sets (while supplies last)<br />\n<br />\nEVENT SCHEDULE:<br />\n<br />\n10:30 am<br />\nWelcome\, Main Stage (outside)<br />\nCake Cutting\, Main Stage (outside)<br />\n<br />\n12:00pm<br />\nCommemorative Coin Set Giveaway (while supplies last)<br />\n<br />\n12:00 pm<br />\nAgriculture activities and demonstrations\, Quonset Hut<br />\n<br />\n12:00 pm<br />\nStory Telling with local historians\, 4H Building<br />\n<br />\n1:00pm<br />\nBuffalo Run\, Main Stage (outside)<br />\n<br />\n1:30pm<br />\nWomen&#39\;s Monologues\, Presented by AAUW\, Ag Heritage Hall stage<br />\n<br />\n2:00pm<br />\nJohn W Garrett speaks\, performed by Albert Feldstein\, Ag Heritage Hall stage<br />\n<br />\n2:30pm<br />\nThe Terah Crawford Band\, Main Stage (outside)<br />\n<br />\n3:00pm<br />\nStory Telling with local historians\, 4H Building<br />\n<br />\n3:30pm<br />\nOur Town Theatre\, &quot\;Keepsakes&quot\;\, Ag Heritage Hall Stage<br />\n<br />\n4:00pm<br />\nAurora Celtic\, Main Stage (outside)<br />\n&nbsp\;<br />\n4:00pm<br />\nDAR Bell Ringing\, Quonset Hut<br />\n<br />\n4:00pm<br />\nRobotics Presentation\, Ag Heritage Hall<br />\n<br />\nALL DAY:&nbsp\;<br />\nCar Show and Competition\, Top Parking Lot<br />\nAntique Tractor Display\, Lower Field\, By Horse Barn<br />\nHistory Walk - Ag Heritage Hall<br />\nCommissioned Art Display - Ag Heritage Hall<br />\nNon Profit and Community Organizations - Quonset Hut<br />\nFood Vendors<br />\n(Each attendee receives two tickets for free food compliments of the Garrett County Commissioners)
LOCATION:Garrett County Fairgrounds McHenry\, MD
UID:e.847.37845
SEQUENCE:3
DTSTAMP:20260420T080018Z
URL:https://members.visitdeepcreek.com/events/details/garrett-county-150th-county-celebration-37845
END:VEVENT

END:VCALENDAR
