BEGIN:VCALENDAR
VERSION:2.0
PRODID:-//ChamberMaster//Event Calendar 2.0//EN
METHOD:PUBLISH
X-PUBLISHED-TTL:P3D
REFRESH-INTERVAL:P3D
CALSCALE:GREGORIAN
BEGIN:VEVENT
DTSTART:20220819T140000Z
DTEND:20220819T200000Z
X-MICROSOFT-CDO-ALLDAYEVENT:FALSE
SUMMARY:Garrett Athletics Golf Tournament
DESCRIPTION:Join us for our Garrett Athletics Golf Tournament 4-person scramble Includes golf\, cart\, food and drinks on the course\, GC t-shirt\, logo golf balls. Additional prizes and giveaways\n\n\n\n**Out-of-County-Regional Event**
X-ALT-DESC;FMTTYPE=text/html:Join us for our Garrett Athletics Golf Tournament 4-person scramble Includes golf\, cart\, food and drinks on the course\, GC t-shirt\, logo golf balls. Additional prizes and giveaways<br />\n<br />\n<strong><span style="color:#FF0000\;">**Out-of-County-Regional Event**</span></strong>
LOCATION:Alpine Lake Resort 700 W. Alpine Drive Terra Alta\, WV 26764
UID:e.847.37924
SEQUENCE:3
DTSTAMP:20260420T110315Z
URL:https://members.visitdeepcreek.com/events/details/garrett-athletics-golf-tournament-37924
END:VEVENT

END:VCALENDAR
