BEGIN:VCALENDAR
VERSION:2.0
PRODID:-//ChamberMaster//Event Calendar 2.0//EN
METHOD:PUBLISH
X-PUBLISHED-TTL:P3D
REFRESH-INTERVAL:P3D
CALSCALE:GREGORIAN
BEGIN:VEVENT
DTSTART:20220213T180000Z
DTEND:20220213T190000Z
X-MICROSOFT-CDO-ALLDAYEVENT:FALSE
SUMMARY:Galentine's Wine Tasting at Little Crossings Pantry
DESCRIPTION:Grab your gals for a Sweet & Sparkling wine tasting on Galentine's Day! Fronterra Resources beverage director Emily Edwards will share her favorites for any day\, or special occasion toasting.\n\n\n\nTaste three wines with paired cheeses and accompaniments. $25 per person\, bottle sales will also be available. All gals (and those that love them!) who are 21 and up are welcome. Please make advance reservations by emailing info@littlecrossingspantry.com or call 301-895-8012.
X-ALT-DESC;FMTTYPE=text/html:<p><span style="font-size:12px">Grab your gals for a Sweet &amp\; Sparkling wine tasting on Galentine&#39\;s Day! Fronterra Resources beverage director Emily Edwards will share her favorites for any day\, or special occasion toasting.<br />\n<br />\nTaste three wines with paired cheeses and accompaniments. $25 per person\, bottle sales will also be available. All gals (and those that love them!) who are 21 and up are welcome. Please make advance reservations by emailing info@littlecrossingspantry.com or call 301-895-8012.&nbsp\;</span></p>\n
LOCATION:Little Crossings Pantry 146 Casselman Rd. Grantsville\, MD 21536
UID:e.847.36767
SEQUENCE:3
DTSTAMP:20260420T184635Z
URL:https://members.visitdeepcreek.com/events/details/galentine-s-wine-tasting-at-little-crossings-pantry-36767
END:VEVENT

END:VCALENDAR
