BEGIN:VCALENDAR
VERSION:2.0
PRODID:-//ChamberMaster//Event Calendar 2.0//EN
METHOD:PUBLISH
X-PUBLISHED-TTL:P3D
REFRESH-INTERVAL:P3D
CALSCALE:GREGORIAN
BEGIN:VEVENT
DTSTART:20220728T190000Z
DTEND:20220728T200000Z
X-MICROSOFT-CDO-ALLDAYEVENT:FALSE
SUMMARY:FY23 Mini Grant Workshop
DESCRIPTION:FY23 Mini Grant Workshop
X-ALT-DESC;FMTTYPE=text/html:FY23 Mini Grant Workshop&nbsp\;
LOCATION:Chamber of Commerce / Visitor Center 15 Visitor Center Dr McHenry\, MD 21541 *Zoom link will be available
UID:e.847.37852
SEQUENCE:3
DTSTAMP:20260420T110039Z
URL:https://members.visitdeepcreek.com/events/details/fy23-mini-grant-workshop-37852
END:VEVENT

END:VCALENDAR
