BEGIN:VCALENDAR
VERSION:2.0
PRODID:-//ChamberMaster//Event Calendar 2.0//EN
METHOD:PUBLISH
X-PUBLISHED-TTL:P3D
REFRESH-INTERVAL:P3D
CALSCALE:GREGORIAN
BEGIN:VEVENT
DTSTART;VALUE=DATE:20230101
DTEND;VALUE=DATE:20230111
TRANSP:TRANSPARENT
X-MICROSOFT-CDO-ALLDAYEVENT:TRUE
SUMMARY:Fur Ball Online Auction
DESCRIPTION:Stay cozy at home while you bid on luxury trips\, wine\, golf packages\, gift cards\, and lots more! All to benefit HART for Animals!
X-ALT-DESC;FMTTYPE=text/html:Stay cozy at home while you bid on luxury trips\, wine\, golf packages\, gift cards\, and lots more! All to benefit HART for Animals!
LOCATION:It's online!
UID:e.847.38463
SEQUENCE:3
DTSTAMP:20260420T013631Z
URL:https://members.visitdeepcreek.com/events/details/fur-ball-online-auction-38463
END:VEVENT

END:VCALENDAR
