BEGIN:VCALENDAR
VERSION:2.0
PRODID:-//ChamberMaster//Event Calendar 2.0//EN
METHOD:PUBLISH
X-PUBLISHED-TTL:P3D
REFRESH-INTERVAL:P3D
CALSCALE:GREGORIAN
BEGIN:VEVENT
DTSTART;VALUE=DATE:20220819
DTEND;VALUE=DATE:20220821
TRANSP:TRANSPARENT
X-MICROSOFT-CDO-ALLDAYEVENT:TRUE
SUMMARY:Friendsville Days
DESCRIPTION:Our 41st annual Friendsville Days Celebration\n\n\n\nFlotilla\, live music\, food\, crafts\, puppet show\, cornhole tournament\, inflatables\, car show\, fireworks\, pony rides\, mechanical bull\, parade and more! 301.501.0831 or friendsville.org\n\n\n\nThis is a 100% Free Event!\n\n\n\nSponsored by the Friendsville Days\, Inc.
X-ALT-DESC;FMTTYPE=text/html:<p>Our 41st annual Friendsville Days Celebration<br />\n<br />\nFlotilla\, live music\, food\, crafts\, puppet show\, cornhole tournament\, inflatables\, car show\, fireworks\, pony rides\, mechanical bull\, parade and more! 301.501.0831 or friendsville.org<br />\n<br />\nThis is a 100% Free Event!<br />\n<br />\nSponsored by the Friendsville Days\, Inc.</p>\n
LOCATION:Friendsville Community Park
UID:e.847.37925
SEQUENCE:3
DTSTAMP:20260420T110213Z
URL:https://members.visitdeepcreek.com/events/details/friendsville-days-37925
END:VEVENT

END:VCALENDAR
