BEGIN:VCALENDAR
VERSION:2.0
PRODID:-//ChamberMaster//Event Calendar 2.0//EN
METHOD:PUBLISH
X-PUBLISHED-TTL:P3D
REFRESH-INTERVAL:P3D
CALSCALE:GREGORIAN
BEGIN:VEVENT
DTSTART:20221117T220000Z
DTEND:20221118T000000Z
X-MICROSOFT-CDO-ALLDAYEVENT:FALSE
SUMMARY:French Wine Dinner with Denise Gough
DESCRIPTION:Enjoy an in-depth tasting of five wines alongside expertly paired hors d'oeuvres and entre with experienced wine educator\, and longtime Lodge Lover\, Denise Gough. Recently returned from a trip to Bordeaux\, Denise will explore French wines paired alongside plates from Catalpa chefs. Develop a deeper appreciation for this highly nuanced craft with other like-minded oenophiles
X-ALT-DESC;FMTTYPE=text/html:<span style="color:rgb(0\, 0\, 0)\; font-family:calluna\; font-size:16px">Enjoy an in-depth tasting of five wines alongside expertly paired hors d&#39\;oeuvres and entre with experienced wine educator\, and longtime Lodge Lover\, Denise Gough. Recently returned from a trip to Bordeaux\, Denise will explore French wines paired alongside plates from Catalpa chefs. Develop a deeper appreciation for this highly nuanced craft with other like-minded oenophiles</span>
LOCATION:Savage River Lodge 1600 Mt. Aetna Rd Frostburg\, MD 21532
UID:e.847.36816
SEQUENCE:3
DTSTAMP:20260420T044123Z
URL:https://members.visitdeepcreek.com/events/details/french-wine-dinner-with-denise-gough-36816
END:VEVENT

END:VCALENDAR
