BEGIN:VCALENDAR
VERSION:2.0
PRODID:-//ChamberMaster//Event Calendar 2.0//EN
METHOD:PUBLISH
X-PUBLISHED-TTL:P3D
REFRESH-INTERVAL:P3D
CALSCALE:GREGORIAN
BEGIN:VEVENT
DTSTART:20210805T180000Z
DTEND:20210805T190000Z
X-MICROSOFT-CDO-ALLDAYEVENT:FALSE
SUMMARY:Free Mini Grant Workshop
DESCRIPTION:Join us to discuss the Mountain MD Gateway to the West Heritage Area mini grant program.  We will discuss who is eligible\, how to apply\, all of the requirements and reporting.  This workshop will provide you with a good understanding of the grant program and help you navigate the process if you decide to apply and help with reporting.
X-ALT-DESC;FMTTYPE=text/html:Join us to discuss the Mountain MD Gateway to the West Heritage Area mini grant program.&nbsp\; We will discuss who is eligible\, how to apply\, all of the requirements and reporting.&nbsp\; This workshop will provide you with a good understanding of the grant program and help you navigate the process if you decide to apply and help with reporting.&nbsp\; &nbsp\;
LOCATION:Ruth Enlow Library 6 N Second St. Oakland\, MD 21550
UID:e.847.36603
SEQUENCE:3
DTSTAMP:20260421T045327Z
URL:https://members.visitdeepcreek.com/events/details/free-mini-grant-workshop-36603
END:VEVENT

END:VCALENDAR
