BEGIN:VCALENDAR
VERSION:2.0
PRODID:-//ChamberMaster//Event Calendar 2.0//EN
METHOD:PUBLISH
X-PUBLISHED-TTL:P3D
REFRESH-INTERVAL:P3D
CALSCALE:GREGORIAN
BEGIN:VEVENT
DTSTART:20211214T190000Z
DTEND:20211214T220000Z
X-MICROSOFT-CDO-ALLDAYEVENT:FALSE
SUMMARY:Free Legal Help
DESCRIPTION:Free legal services clinic with a Maryland Legal Aid attorney
X-ALT-DESC;FMTTYPE=text/html:Free legal services clinic with a Maryland Legal Aid attorney
LOCATION:Ruth Enlow Library
UID:e.847.36702
SEQUENCE:3
DTSTAMP:20260420T220356Z
URL:https://members.visitdeepcreek.com/events/details/free-legal-help-36702
END:VEVENT

END:VCALENDAR
