BEGIN:VCALENDAR
VERSION:2.0
PRODID:-//ChamberMaster//Event Calendar 2.0//EN
METHOD:PUBLISH
X-PUBLISHED-TTL:P3D
REFRESH-INTERVAL:P3D
CALSCALE:GREGORIAN
BEGIN:VEVENT
DTSTART:20220909T140000Z
DTEND:20220909T190000Z
X-MICROSOFT-CDO-ALLDAYEVENT:FALSE
SUMMARY:First United Bank & Trust Hosts 22nd Annual Hot Dogs for Hospice
DESCRIPTION:After a two  year pause due to the Covid pandemic\, First United Bank & Trust will host its 22nd  Annual Hot Dogs for Hospice on Friday\, September 9 at two Oakland locations:  First United Oakland Community Office at 19 S. Second Street and the Express & Operations Center at 12892 Garrett Highway\, Oakland.  Items will be available in each parking lot from 10:00 a.m. to 3:00 p.m.  All proceeds from the event will benefit Hospice of Garrett County.
X-ALT-DESC;FMTTYPE=text/html:<span style="font-family:chaparral pro\,serif">After a two&nbsp\; year pause due to the Covid pandemic\, First United Bank &amp\; Trust will host its 22<sup>nd</sup> &nbsp\;Annual Hot Dogs for Hospice on Friday\, September 9 at two Oakland locations:&nbsp\; First United Oakland Community Office at 19 S. Second Street and the Express &amp\; Operations Center at 12892 Garrett Highway\, Oakland.&nbsp\; Items will be available in each parking lot from 10:00 a.m. to 3:00 p.m.&nbsp\; All proceeds from the event will benefit Hospice of Garrett County.&nbsp\; </span>
LOCATION:First United Oakland Community Office at 19 S. Second Street and the Express & Operations Center at 12892 Garrett Highway\, Oakland
UID:e.847.37941
SEQUENCE:3
DTSTAMP:20260420T093633Z
URL:https://members.visitdeepcreek.com/events/details/first-united-bank-trust-hosts-22nd-annual-hot-dogs-for-hospice-37941
END:VEVENT

END:VCALENDAR
