BEGIN:VCALENDAR
VERSION:2.0
PRODID:-//ChamberMaster//Event Calendar 2.0//EN
METHOD:PUBLISH
X-PUBLISHED-TTL:P3D
REFRESH-INTERVAL:P3D
CALSCALE:GREGORIAN
BEGIN:VEVENT
DTSTART:20220708T123000Z
DTEND:20220708T210000Z
X-MICROSOFT-CDO-ALLDAYEVENT:FALSE
SUMMARY:First United 34th Annual Charity Golf Tournament
DESCRIPTION:Join us for the 34th Annual Charity Golf Tournament on July 8 held at the Oakland Golf Club! This year's recipient will be the United Way of Garrett County.  \n\n			* 8:30 a.m. - 9:45 a.m. == Registration opens\n\n			* 10:00 a.m. == Shotgun start\n\n			* Box Lunch provided\n\n			* Putting contest runs throughout the tournament.\n\n			* Awards will be presented at the Oakland Golf Club at the end of play.  \n\n			\n\n			To register and for more information\, contact Janet Marsh at jmarsh@MyBank.com or visit MyBank.com/golf.  Come out and support a great cause!
X-ALT-DESC;FMTTYPE=text/html:<table border="0" cellpadding="0" cellspacing="0" style="border-collapse:collapse\; width:424pt">\n	<tbody>\n		<tr>\n			<td style="height:105.0pt\; width:424pt">Join us for the 34th Annual Charity Golf Tournament on July 8 held at the Oakland Golf Club! This year&#39\;s recipient will be the United Way of Garrett County.&nbsp\;&nbsp\;<br />\n			* 8:30 a.m. - 9:45 a.m. == Registration opens<br />\n			* 10:00 a.m. == Shotgun start<br />\n			* Box Lunch provided<br />\n			* Putting contest runs throughout the tournament.<br />\n			* Awards will be presented at the Oakland Golf Club at the end of play.&nbsp\;&nbsp\;<br />\n			<br />\n			To register and for more information\, contact Janet Marsh at jmarsh@MyBank.com or visit MyBank.com/golf.&nbsp\;&nbsp\;Come out and support a great cause!</td>\n		</tr>\n	</tbody>\n</table>\n
LOCATION:Oakland Golf Club
UID:e.847.37734
SEQUENCE:3
DTSTAMP:20260420T112238Z
URL:https://members.visitdeepcreek.com/events/details/first-united-34th-annual-charity-golf-tournament-37734
END:VEVENT

END:VCALENDAR
