BEGIN:VCALENDAR
VERSION:2.0
PRODID:-//ChamberMaster//Event Calendar 2.0//EN
METHOD:PUBLISH
X-PUBLISHED-TTL:P3D
REFRESH-INTERVAL:P3D
CALSCALE:GREGORIAN
BEGIN:VEVENT
DTSTART:20220210T223000Z
DTEND:20220211T003000Z
X-MICROSOFT-CDO-ALLDAYEVENT:FALSE
SUMMARY:February Business After Hours 2022
DESCRIPTION:The Chamber is pleased to announce that Smoke N Mirrors Photography will be hosting our February Business After Hours on Thursday\, February 10th from 5:30 pm- 7:30 pm.\nSmoke N Mirrors Studio and Gallery is pleased to host the February 2022 Business after Hours as we invite you to celebrate our 5-year anniversary providing Garret County with a variety of photography services. Smoke N Mirrors is your one-stop must for commercial\, event\, real estate\, and family photography. They also offer custom framing and matting services and a variety of ready-to-hang prints.  We look forward to seeing you on February 10 as we kick off the new year! \n\n\n\nEnjoy delicious food and drinks as you mingle with fellow Chamber members and Chamber staff at our monthly networking events. Don't forget your business card to enter to win prizes.
X-ALT-DESC;FMTTYPE=text/html:<span style="font-size:14px\;"><span style="font-family:arial\;">The Chamber is pleased to announce that Smoke N Mirrors Photography will be hosting our February Business After Hours on Thursday\, February 10th&nbsp\;from 5:30 pm- 7:30 pm.</span></span>\n<p><span style="font-size:14px\;"><span style="font-family:arial\;"><a href="https://www.visitdeepcreek.com/list/member/smoke-n-mirrors-photography-28685">Smoke N Mirrors Studio and Gallery</a> is pleased to host the February 2022 Business after Hours as we invite you to celebrate our 5-year anniversary providing Garret County with a variety of photography services. Smoke N Mirrors is your one-stop must for commercial\, event\, real estate\, and family photography. They also offer custom framing and matting services and a variety of ready-to-hang prints.&nbsp\; We look forward to seeing you on February 10 as we kick off the new year!&nbsp\;<br />\n<br />\nEnjoy delicious food and drinks as you mingle with fellow Chamber members and Chamber staff at our monthly networking events. Don&#39\;t forget your business card to enter to win prizes.</span></span></p>\n
LOCATION:Smoke N Mirrors Photography 114 S 3rd Street Oakland\, MD 21550
UID:e.847.36749
SEQUENCE:3
DTSTAMP:20260420T202430Z
URL:https://members.visitdeepcreek.com/events/details/february-business-after-hours-2022-36749
END:VEVENT

END:VCALENDAR
