BEGIN:VCALENDAR
VERSION:2.0
PRODID:-//ChamberMaster//Event Calendar 2.0//EN
METHOD:PUBLISH
X-PUBLISHED-TTL:P3D
REFRESH-INTERVAL:P3D
CALSCALE:GREGORIAN
BEGIN:VEVENT
DTSTART:20220619T200000Z
DTEND:20220619T220000Z
X-MICROSOFT-CDO-ALLDAYEVENT:FALSE
SUMMARY:Father's Day Chef's Bourbon Dinner
DESCRIPTION:Much more than a barbecue! In honor of Father's Day enjoy an intimate dining experience from Corporate Executive Chef Martin Galloway\, paired with bourbons presented by Emily Newman-Edwards. Menu and pairings available online\, purchase tickets by Wednesday\, June 15. $65 per person includes tax and gratuity
X-ALT-DESC;FMTTYPE=text/html:<div>\n<div>\n<p>Much more than a barbecue! In honor of Father&rsquo\;s Day enjoy an intimate dining experience from Corporate Executive Chef Martin Galloway\, paired with bourbons presented by Emily Newman-Edwards. Menu and pairings available online\, purchase tickets by Wednesday\, June 15.&nbsp\;<em>$65 per person includes tax and gratuity</em></p>\n</div>\n</div>\n
LOCATION:The Cornucopia Caf 146 Casselman Rd. Grantsville\, MD 21536
UID:e.847.37717
SEQUENCE:3
DTSTAMP:20260420T141258Z
URL:https://members.visitdeepcreek.com/events/details/father-s-day-chef-s-bourbon-dinner-37717
END:VEVENT

END:VCALENDAR
