BEGIN:VCALENDAR
VERSION:2.0
PRODID:-//ChamberMaster//Event Calendar 2.0//EN
METHOD:PUBLISH
X-PUBLISHED-TTL:P3D
REFRESH-INTERVAL:P3D
CALSCALE:GREGORIAN
BEGIN:VEVENT
DTSTART:20211003T170000Z
DTEND:20211003T200000Z
X-MICROSOFT-CDO-ALLDAYEVENT:FALSE
SUMMARY:Fall Harvest Open House
DESCRIPTION:Free! Visit Evergreen during the peak of fall colors and enjoy lots of fun for the whole family!  Fall harvest plants available for purchase\, tours of our 3 museums\, make and take activities for all ages\, and meet Laura Ingalls-Wilder!\n\n	Open for Tours of our 3 Museums\n	Fall Mums and Pumpkins\n	Visit with Laura Ingalls-Wilder portrayed by Ellen McDaniel-Weissler\n	Make and Take Activities for the whole family: Tin Piercing and Fabric pumpkins\n	Evergreen Cupboard will have gifts and baked goods\n\n**Out-of-County Regional Event**
X-ALT-DESC;FMTTYPE=text/html:Free! Visit Evergreen during the peak of fall colors and enjoy lots of fun for the whole family!&nbsp\; Fall harvest plants available for purchase\, tours of our 3 museums\, make and take activities for all ages\, and meet Laura Ingalls-Wilder!\n<ul>\n	<li>Open for Tours of our 3 Museums</li>\n	<li>Fall Mums and Pumpkins</li>\n	<li>Visit with Laura Ingalls-Wilder portrayed by Ellen McDaniel-Weissler</li>\n	<li>Make and Take Activities for the whole family: Tin Piercing and Fabric pumpkins</li>\n	<li>Evergreen Cupboard will have gifts and baked goods</li>\n</ul>\n<span style="color:#FF0000\;"><strong>**Out-of-County Regional Event**</strong></span>
LOCATION:Evergreen Heritage Center/Farm 15603 Trimble Rd NW Mt Savage\, 21545 United States
UID:e.847.36658
SEQUENCE:3
DTSTAMP:20260421T012925Z
URL:https://members.visitdeepcreek.com/events/details/fall-harvest-open-house-36658
END:VEVENT

END:VCALENDAR
