BEGIN:VCALENDAR
VERSION:2.0
PRODID:-//ChamberMaster//Event Calendar 2.0//EN
METHOD:PUBLISH
X-PUBLISHED-TTL:P3D
REFRESH-INTERVAL:P3D
CALSCALE:GREGORIAN
BEGIN:VEVENT
DTSTART:20211106T130000Z
DTEND:20211106T150000Z
X-MICROSOFT-CDO-ALLDAYEVENT:FALSE
SUMMARY:Explore Garrett Virtual Open House
DESCRIPTION:Join us for a virtual open house featuring live video presentations and a Q & A session with representatives from Admissions\, Advising\, Financial Aid\, Housing\, and Academics to learn more about becoming a student at Garrett College! We will share information about Garrett's admissions process\, programs of study\, seamless transfer agreements\, athletic programs\, financial aid\, and available scholarships. Information will also be provided for on-campus housing\, placement testing\, and new student advising. For more information\, contact the Garrett College Office of Admissions at 301-387-3044 or admissions@garrettcollege.edu. RSVP online today to receive the Zoom link - visit https://www.garrettcollege.edu/explore-garrett.php.
X-ALT-DESC;FMTTYPE=text/html:Join us for a virtual open house featuring live video presentations and a Q &amp\; A session with representatives from Admissions\, Advising\, Financial Aid\, Housing\, and Academics to learn more about becoming a student at Garrett College! We will share information about Garrett&rsquo\;s admissions process\, programs of study\, seamless transfer agreements\, athletic programs\, financial aid\, and available scholarships. Information will also be provided for on-campus housing\, placement testing\, and new student advising. For more information\, contact the Garrett College Office of Admissions at 301-387-3044 or admissions@garrettcollege.edu. RSVP online today to receive the Zoom link - visit https://www.garrettcollege.edu/explore-garrett.php.
LOCATION:Virtual - Zoom
UID:e.847.36669
SEQUENCE:3
DTSTAMP:20260420T234523Z
URL:https://members.visitdeepcreek.com/events/details/explore-garrett-virtual-open-house-36669
END:VEVENT

END:VCALENDAR
