BEGIN:VCALENDAR
VERSION:2.0
PRODID:-//ChamberMaster//Event Calendar 2.0//EN
METHOD:PUBLISH
X-PUBLISHED-TTL:P3D
REFRESH-INTERVAL:P3D
CALSCALE:GREGORIAN
BEGIN:VEVENT
DTSTART:20220402T133000Z
DTEND:20220402T160000Z
X-MICROSOFT-CDO-ALLDAYEVENT:FALSE
SUMMARY:Explore Garrett Open House
DESCRIPTION:Garrett College is excited to welcome you to our in-person Explore Garrett Open House on our beautiful\, scenic campus in McHenry\, Maryland. Please join us to explore academic programs through conversations with faculty\, learn about financial aid and scholarships\, take a tour of campus and hear all of the benefits Garrett College has to offer. We will share information about Garrett's admissions process\, programs of study\, seamless transfer agreements\, athletic programs\, financial aid\, and available scholarships. Information will also be provided for on-campus housing\, placement testing\, and new student advising.
X-ALT-DESC;FMTTYPE=text/html:Garrett College is excited to welcome you to our in-person Explore Garrett Open House on our beautiful\, scenic campus in McHenry\, Maryland. Please join us to explore academic programs through conversations with faculty\, learn about financial aid and scholarships\, take a tour of campus and hear all of the benefits Garrett College has to offer. We will share information about Garrett&rsquo\;s admissions process\, programs of study\, seamless transfer agreements\, athletic programs\, financial aid\, and available scholarships. Information will also be provided for on-campus housing\, placement testing\, and new student advising.
LOCATION:Garrett College McHenry Campus Room 111
UID:e.847.36795
SEQUENCE:3
DTSTAMP:20260420T154053Z
URL:https://members.visitdeepcreek.com/events/details/explore-garrett-open-house-36795
END:VEVENT

END:VCALENDAR
