BEGIN:VCALENDAR
VERSION:2.0
PRODID:-//ChamberMaster//Event Calendar 2.0//EN
METHOD:PUBLISH
X-PUBLISHED-TTL:P3D
REFRESH-INTERVAL:P3D
CALSCALE:GREGORIAN
BEGIN:VEVENT
DTSTART:20220805T233000Z
DTEND:20220806T013000Z
X-MICROSOFT-CDO-ALLDAYEVENT:FALSE
SUMMARY:Eric Byrd Trio
DESCRIPTION:Eric Byrd Trio\n\nAugust 5\, 2022\, 7:30pm - Auditorium at Garrett College\n\nFor over 20 years\, The Eric Byrd Trio (EBT)\, pianist/vocalist Eric Byrd\, bassist Bhagwan Khalsa\, and drummer Alphonso Young\, Jr.\, have traveled the world as enthusiastic ambassadors of jazz. Rooted in swing and be-bop\, The Trio also embraces gospel and the blues as core elements of their expansive performance style. Their body of work spans seven unique studio and live recordings on which they shine as a Trio and as collaborators with an expanded 8-piece ensemble they call The Eric Byrd Trio: Brother Ray Band\, in tribute to The Genius of Soul icon Ray Charles. On each recording\, they take a rigorous\, modern approach to standards as well as original compositions\, playing with great acuity within the broad and rich jazz tradition.
X-ALT-DESC;FMTTYPE=text/html:<p><span style="color:rgb(0\, 0\, 0)\; font-family:open sans\,arial\,sans-serif\; font-size:16px">Eric Byrd Trio<br />\nAugust 5\, 2022\, 7:30pm - Auditorium&nbsp\;at Garrett College<br />\nFor over 20 years\, The Eric Byrd Trio (EBT)\, pianist/vocalist Eric Byrd\, bassist Bhagwan Khalsa\, and drummer Alphonso Young\, Jr.\, have traveled the world as enthusiastic ambassadors of jazz. Rooted in swing and be-bop\, The Trio also embraces gospel and the blues as core elements of their expansive performance style. Their body of work spans seven unique studio and live recordings on which they shine as a Trio and as collaborators with an expanded 8-piece ensemble they call The Eric Byrd Trio: Brother Ray Band\, in tribute to The Genius of Soul icon Ray Charles. On each recording\, they take a rigorous\, modern approach to standards as well as original compositions\, playing with great acuity within the broad and rich jazz tradition.</span></p>\n
LOCATION:Auditorium at Garrett College
UID:e.847.37906
SEQUENCE:3
DTSTAMP:20260420T092846Z
URL:https://members.visitdeepcreek.com/events/details/eric-byrd-trio-37906
END:VEVENT

END:VCALENDAR
