BEGIN:VCALENDAR
VERSION:2.0
PRODID:-//ChamberMaster//Event Calendar 2.0//EN
METHOD:PUBLISH
X-PUBLISHED-TTL:P3D
REFRESH-INTERVAL:P3D
CALSCALE:GREGORIAN
BEGIN:VEVENT
DTSTART:20220407T220000Z
DTEND:20220407T230000Z
X-MICROSOFT-CDO-ALLDAYEVENT:FALSE
SUMMARY:Engaging Community Conversations: Indigenous Peoples of Garrett County
DESCRIPTION:Come prepared to join in the discussion with us! The goal of Engaging Community Conversations: Indigenous Peoples of Garrett County is to educate and raise local awareness to the Garrett County community about the historical and cultural importance of local indigenous populations through an open forum with conversation. Hosted by the Garrett College Library\, this discussion will be held in Room 511 of the McHenry campus. Attendees are encouraged to view the new Indigenous Peoples of Garrett County Special Collection Room in Room 512 before or after the event. All individuals planning to attend must follow Garrett College's COVID-19 guidelines and protocols. RSVP is required in advance. Contact Jenny Meslener\, jennifer.meslener@garrettcollege.edu or 301-387-3022. Engaging Community Conversations is made possible as Garrett College is an award recipient of the Libraries Transforming Communities Focus on Small and Rural Libraries grant.
X-ALT-DESC;FMTTYPE=text/html:Come prepared to join in the discussion with us! The goal of Engaging Community Conversations: Indigenous Peoples of Garrett County is to educate and raise local awareness to the Garrett County community about the historical and cultural importance of local indigenous populations through an open forum with conversation. Hosted by the Garrett College Library\, this discussion will be held in Room 511 of the McHenry campus. Attendees are encouraged to view the new Indigenous Peoples of Garrett County Special Collection Room in Room 512 before or after the event. All individuals planning to attend must follow Garrett College&#39\;s COVID-19 guidelines and protocols. RSVP is required in advance. Contact Jenny Meslener\, jennifer.meslener@garrettcollege.edu or 301-387-3022. Engaging Community Conversations is made possible as Garrett College is an award recipient of the Libraries Transforming Communities Focus on Small and Rural Libraries grant.
LOCATION:Garrett College McHenry campus Room 511 (Library)
UID:e.847.36789
SEQUENCE:3
DTSTAMP:20260420T171700Z
URL:https://members.visitdeepcreek.com/events/details/engaging-community-conversations-indigenous-peoples-of-garrett-county-36789
END:VEVENT

END:VCALENDAR
