BEGIN:VCALENDAR
VERSION:2.0
PRODID:-//ChamberMaster//Event Calendar 2.0//EN
METHOD:PUBLISH
X-PUBLISHED-TTL:P3D
REFRESH-INTERVAL:P3D
CALSCALE:GREGORIAN
BEGIN:VEVENT
DTSTART:20220917T160000Z
DTEND:20220918T030000Z
X-MICROSOFT-CDO-ALLDAYEVENT:FALSE
SUMMARY:End of Summer BBQ Bash
DESCRIPTION:Join us as we say goodbye to another great summer! Burgers & Hot Dogs\, beer & drink specials all day. Live music on the back patio featuring Still Brewin Band (4pm-6pm)\, The Terah Crawford Band (6pm-8pm) & Fur The Birds (8:30pm-11pm).
X-ALT-DESC;FMTTYPE=text/html:Join us as we say goodbye to another great summer! Burgers &amp\; Hot Dogs\, beer &amp\; drink specials all day. Live music on the back patio featuring Still Brewin Band (4pm-6pm)\, The Terah Crawford Band (6pm-8pm) &amp\; Fur The Birds (8:30pm-11pm).
LOCATION:Mountain State Brewing Co 6690 Sang Run Road McHenry\, MD 21541
UID:e.847.37942
SEQUENCE:3
DTSTAMP:20260420T075951Z
URL:https://members.visitdeepcreek.com/events/details/end-of-summer-bbq-bash-37942
END:VEVENT

END:VCALENDAR
