BEGIN:VCALENDAR
VERSION:2.0
PRODID:-//ChamberMaster//Event Calendar 2.0//EN
METHOD:PUBLISH
X-PUBLISHED-TTL:P3D
REFRESH-INTERVAL:P3D
CALSCALE:GREGORIAN
BEGIN:VEVENT
DTSTART:20221029T233000Z
DTEND:20221030T013000Z
X-MICROSOFT-CDO-ALLDAYEVENT:FALSE
SUMMARY:Ellis Dyson and the Shambles
DESCRIPTION:"FOOT STOMPIN' PARTY MUSIC OF A BYGONE ERA!"\n\nEllis Dyson & The Shambles expertly blends old-time influences ranging from early New Orleans Jazz to Piedmont Murder Ballads. The result: Foot-Stompin' and eccentric original songs that bring party music of departed eras to crowds both young and old. The Shambles have made waves with their theatrical live shows and dazzling musicianship. The original compositions evoke a bygone era while contributing to the vast tradition of storytelling through songwriting. The group released their 3rd full-length album "Greetings from Shambylvania" in April 2019. The album\, deliberately written as a full group\, is a series of whimsical vignettes from the fictional town of Shambylvania.\n\nEllis Dyson & The Shambles have performed hundreds of shows throughtout the East Coast and Midwest and have shared a bill with national acts such as Lake Street Drive\, Rebirth Brass Band\, Pokey Lafarge\, and Mipso\, to name a few. The band consists of Ellis Dyson (Banjo\, Vocals)\, Eli Wittmann (Acousitc Guitar)\, Kenny Phelps-McKeown (Upright Bass)\, Danny Abrams (Sorprano/Alto/Bartone Saxophones\, Clarinet\, Vocals)\, and Danny Grewen (Trombone\, Vocals).  They came together through a series of fortuitous meetings in Chapel Hill\, N.C.  Beginning back in 2013 as a Saxophone and Banjo duo\, Ellis Dyson & The Shambles has grown into a freight train string band with a flashy horn section.
X-ALT-DESC;FMTTYPE=text/html:<p>&ldquo\;FOOT STOMPIN&rsquo\; PARTY MUSIC OF A BYGONE ERA!&rdquo\;</p>\n\n<p>Ellis Dyson &amp\; The Shambles expertly blends old-time influences ranging from early New Orleans Jazz to Piedmont Murder Ballads. The result: Foot-Stompin&rsquo\; and eccentric original songs that bring party music of departed eras to crowds both young and old. The Shambles have made waves with their theatrical live shows and dazzling musicianship. The original compositions evoke a bygone era while contributing to the vast tradition of storytelling through songwriting. The group released their 3rd full-length album &ldquo\;Greetings from Shambylvania&rdquo\; in April 2019. The album\, deliberately written as a full group\, is a series of whimsical vignettes from the fictional town of Shambylvania.</p>\n\n<p>Ellis Dyson &amp\; The Shambles have performed hundreds of shows throughtout the East Coast and Midwest and have shared a bill with national acts such as Lake Street Drive\, Rebirth Brass Band\, Pokey Lafarge\, and Mipso\, to name a few. The band consists of Ellis Dyson (Banjo\, Vocals)\, Eli Wittmann (Acousitc Guitar)\, Kenny Phelps-McKeown (Upright Bass)\, Danny Abrams (Sorprano/Alto/Bartone Saxophones\, Clarinet\, Vocals)\, and Danny Grewen (Trombone\, Vocals).&nbsp\; They came together through a series of fortuitous meetings in Chapel Hill\, N.C.&nbsp\; Beginning back in 2013 as a Saxophone and Banjo duo\, Ellis Dyson &amp\; The Shambles has grown into a freight train string band with a flashy horn section.</p>\n
LOCATION:Performing Arts Center at Garrett College
UID:e.847.36697
SEQUENCE:3
DTSTAMP:20260420T080113Z
URL:https://members.visitdeepcreek.com/events/details/ellis-dyson-and-the-shambles-36697
END:VEVENT

END:VCALENDAR
