BEGIN:VCALENDAR
VERSION:2.0
PRODID:-//ChamberMaster//Event Calendar 2.0//EN
METHOD:PUBLISH
X-PUBLISHED-TTL:P3D
REFRESH-INTERVAL:P3D
CALSCALE:GREGORIAN
BEGIN:VEVENT
DTSTART:20220423T220000Z
DTEND:20220424T020000Z
X-MICROSOFT-CDO-ALLDAYEVENT:FALSE
SUMMARY:Drag Queen Bingo!
DESCRIPTION:A raucous night of number-calling fun\, entertainment\, awesome prizes\, a cash bar and food. And it all supports HART for Animals!\n\nBingo Daubers will be available for sale or bring your own!\n\n8 games/6 cards each game.\n\nWin gift cards to Amazon and local establishments each valued at $50!\n\nPlus 4 Bonus Games where you can win more great prizes including an IPad\, and a weekend stay at Silver Tree Suites!\n\nFood and Cash Bar\n\nMore Ways to Win: 50/50 Drawing\, Pull Tabs and more!\n\n$30 per person. Must be18 years or older.
X-ALT-DESC;FMTTYPE=text/html:<div>\n<div>\n<p>A raucous night of number-calling fun\, entertainment\, awesome prizes\, a cash bar and food. And it all supports HART for Animals!</p>\n\n<p>Bingo Daubers will be available for sale or bring your own!</p>\n\n<p>8 games/6 cards each game.</p>\n\n<p>Win gift cards to Amazon and local establishments each valued at $50!</p>\n\n<p>Plus 4 Bonus Games where you can win more great prizes including an IPad\, and a weekend stay at Silver Tree Suites!</p>\n\n<p>Food and Cash Bar</p>\n\n<p>More Ways to Win: 50/50 Drawing\, Pull Tabs and more!</p>\n\n<p>$30 per person. Must be18 years or older.</p>\n</div>\n</div>\n
LOCATION:Elks Lodge 527 Hamill St Oakland\, MD 21550
UID:e.847.36786
SEQUENCE:3
DTSTAMP:20260420T154208Z
URL:https://members.visitdeepcreek.com/events/details/drag-queen-bingo-36786
END:VEVENT

END:VCALENDAR
