BEGIN:VCALENDAR
VERSION:2.0
PRODID:-//ChamberMaster//Event Calendar 2.0//EN
METHOD:PUBLISH
X-PUBLISHED-TTL:P3D
REFRESH-INTERVAL:P3D
CALSCALE:GREGORIAN
BEGIN:VEVENT
DTSTART:20210703T173000Z
DTEND:20210704T010000Z
X-MICROSOFT-CDO-ALLDAYEVENT:FALSE
SUMMARY:Double Header Music at Sipside this Saturday!
DESCRIPTION:This Saturday Sipside offers its own musical fireworks when we have two music acts performing. First up is Friendsville faves "Beyond Primitive" (featuring Kimb Alexander and Dan Boudreaux) starting at 1:30. Then at 6P is the debut of Alyssa Hankey\, a singer/ songwriter whose music reflects the hardscrabble rural hills of her native Western Pa. who has just signed a recording contract. As always we offer a cool vibe - summer or not - with our signature outdoor Fireside Patio plus a hip inside bar area. Regional beers\, exquisite wines\, classic spirits and cocktails plus our signature charcuterie board. On top of that you can order from our on-site Food Truck Sophie's Serendipity featuring seafood\, beef & pork delicacies. Doors open at Noon. No cover.
X-ALT-DESC;FMTTYPE=text/html:This Saturday Sipside offers its own musical fireworks when we have two music acts performing. First up is Friendsville faves &ldquo\;Beyond Primitive&rdquo\; (featuring Kimb Alexander and Dan Boudreaux) starting at 1:30. Then at 6P is the debut of Alyssa Hankey\, a singer/ songwriter whose music reflects the hardscrabble rural hills of her native Western Pa. who has just signed a recording contract. As always we offer a cool vibe - summer or not - with our signature outdoor Fireside Patio plus a hip inside bar area. Regional beers\, exquisite wines\, classic spirits and cocktails plus our signature charcuterie board. On top of that you can order from our on-site Food Truck Sophie&rsquo\;s Serendipity featuring seafood\, beef &amp\; pork delicacies. Doors open at Noon. No cover.
LOCATION:119 So. 2nd St. Oakland\, MD 21550
UID:e.847.36573
SEQUENCE:3
DTSTAMP:20260421T063052Z
URL:https://members.visitdeepcreek.com/events/details/double-header-music-at-sipside-this-saturday-36573
END:VEVENT

END:VCALENDAR
