BEGIN:VCALENDAR
VERSION:2.0
PRODID:-//ChamberMaster//Event Calendar 2.0//EN
METHOD:PUBLISH
X-PUBLISHED-TTL:P3D
REFRESH-INTERVAL:P3D
CALSCALE:GREGORIAN
BEGIN:VEVENT
DTSTART:20210501T160000Z
DTEND:20210501T230000Z
X-MICROSOFT-CDO-ALLDAYEVENT:FALSE
SUMMARY:Derby Day at The Shops at the Fort
DESCRIPTION:Celebrate the Kentucky Derby at The Fort! Our shops are offering discounts on designer clothing\, sterling jewels and gifts and craft brews.\n\n\n	15% off at Cashmere Clothing\n	15% off at A Mountain Fix & 25% off equestrian and rose jewelry\n	$1 off drafts at Short Story Brewing all day!\n\n\nWe will be having activities throughout the day including a Derby hat contest and our Stick Pony Derby for adults and kids! Stay tuned for more details!  Stick ponies (and one T-Rex) are sponsored by businesses at The Fort. If we have more than 8 entrants we will have semi-final races.\n\n\n	Adult winner - $25 Gift Certificate to their pony's business sponsor\n	Kids winner - 2 passes to Deep Creek Funzone\n\n\nAfter our stick pony derbies\, our ponies will be available for ADOPTION! Minimum bid is $15 and all proceeds will go to Hart for Animals! \n\nSCHEDULE:\n\n\n\n12:00 PM      Race Check-in Begins / Get your Derby Hat Contest pic snapped at A Mountain Fix\n\n3:00 PM        Kids Race \n\n4:00 PM        Adults Race\n\n5:00 PM        Pony Auction Results\n\n\n\nYou can place bids in our silent auction pony adoption for your horse all day at A Mountain Fix!  Donation jars will be in all three shops for Hart for Animals. Derby Hat winner will be determined by LIKES on Facebook in the Derby Hat Photo Album.  We will be streaming the NBC feed of the Kentucky Derby all afternoon!
X-ALT-DESC;FMTTYPE=text/html:<div>Celebrate the Kentucky Derby at The Fort! Our shops are offering discounts on designer clothing\, sterling jewels and gifts and craft brews.</div>\n\n<ul>\n	<li>15% off at Cashmere Clothing</li>\n	<li>15% off at A Mountain Fix &amp\; 25% off equestrian and rose jewelry</li>\n	<li>$1 off drafts at Short Story Brewing all day!</li>\n</ul>\n\n<div>We will be having activities throughout the day including a Derby hat contest and our Stick Pony Derby for adults and kids! Stay tuned for more details!&nbsp\; Stick ponies (and one T-Rex) are sponsored by businesses at The Fort. If we have more than 8 entrants we will have semi-final races.</div>\n\n<ul>\n	<li>Adult winner - $25 Gift Certificate to their pony&#39\;s business sponsor</li>\n	<li>Kids winner - 2 passes to Deep Creek Funzone</li>\n</ul>\n\n<div>After our stick pony derbies\, our ponies will be available for ADOPTION! Minimum bid is $15 and all proceeds will go to Hart for Animals!&nbsp\;</div>\n\n<p>SCHEDULE:<br />\n<br />\n12:00&nbsp\;PM&nbsp\;&nbsp\;&nbsp\; &nbsp\; Race Check-in Begins / Get your Derby Hat Contest pic snapped at A Mountain Fix<br />\n3:00 PM&nbsp\;&nbsp\;&nbsp\;&nbsp\;&nbsp\; &nbsp\; Kids Race&nbsp\;<br />\n4:00 PM&nbsp\;&nbsp\;&nbsp\;&nbsp\;&nbsp\; &nbsp\; Adults Race<br />\n5:00 PM&nbsp\;&nbsp\;&nbsp\;&nbsp\;&nbsp\; &nbsp\; Pony Auction Results<br />\n<br />\nYou can place bids in our silent auction pony adoption for your horse all day at A Mountain Fix!&nbsp\; Donation jars will be in all three shops for Hart for Animals. Derby Hat winner will be determined by LIKES on Facebook in the Derby Hat Photo Album.&nbsp\; We will be streaming the NBC feed of the Kentucky Derby all afternoon!</p>\n
LOCATION:1550 Deep Creek Drive\, Suite G\, McHenry\, MD 21541
UID:e.847.34422
SEQUENCE:3
DTSTAMP:20260421T112138Z
URL:https://members.visitdeepcreek.com/events/details/derby-day-at-the-shops-at-the-fort-34422
END:VEVENT

END:VCALENDAR
