BEGIN:VCALENDAR
VERSION:2.0
PRODID:-//ChamberMaster//Event Calendar 2.0//EN
METHOD:PUBLISH
X-PUBLISHED-TTL:P3D
REFRESH-INTERVAL:P3D
CALSCALE:GREGORIAN
BEGIN:VEVENT
DTSTART;VALUE=DATE:20210921
DTEND;VALUE=DATE:20210922
TRANSP:TRANSPARENT
X-MICROSOFT-CDO-ALLDAYEVENT:TRUE
SUMMARY:Deep Creek Watershed Foundation Fifth Anniversary Event
DESCRIPTION:Deep Creek Watershed Foundation is having a fifth anniversary event.  "Broadway in the Barn' will held at the Red Barn Inn on North Glade Road on Tuesday\, September 21\, 2021 starting at 5 PM.  There will be a cocktail hour\, dinner\, entertainment by NYC artists and a Silent Auction.  Tickets are $75 per person
X-ALT-DESC;FMTTYPE=text/html:Deep Creek Watershed Foundation is having a fifth anniversary event.&nbsp\; &quot\;Broadway in the Barn&#39\; will held at the Red Barn Inn on North Glade Road on Tuesday\, September 21\, 2021 starting at 5 PM.&nbsp\; There will be a cocktail hour\, dinner\, entertainment by NYC artists and a Silent Auction.&nbsp\; Tickets are $75 per person
LOCATION:
UID:e.847.36644
SEQUENCE:3
DTSTAMP:20260421T045438Z
URL:https://members.visitdeepcreek.com/events/details/deep-creek-watershed-foundation-fifth-anniversary-event-36644
END:VEVENT

END:VCALENDAR
