BEGIN:VCALENDAR
VERSION:2.0
PRODID:-//ChamberMaster//Event Calendar 2.0//EN
METHOD:PUBLISH
X-PUBLISHED-TTL:P3D
REFRESH-INTERVAL:P3D
CALSCALE:GREGORIAN
BEGIN:VEVENT
DTSTART:20220620T213000Z
DTEND:20220621T010000Z
X-MICROSOFT-CDO-ALLDAYEVENT:FALSE
SUMMARY:Deep Creek Watershed Foundation at Sip Side Lounge
DESCRIPTION:
X-ALT-DESC;FMTTYPE=text/html:
LOCATION:
UID:e.847.37235
SEQUENCE:3
DTSTAMP:20260420T141303Z
URL:https://members.visitdeepcreek.com/events/details/deep-creek-watershed-foundation-at-sip-side-lounge-37235
END:VEVENT

END:VCALENDAR
