BEGIN:VCALENDAR
VERSION:2.0
PRODID:-//ChamberMaster//Event Calendar 2.0//EN
METHOD:PUBLISH
X-PUBLISHED-TTL:P3D
REFRESH-INTERVAL:P3D
CALSCALE:GREGORIAN
BEGIN:VEVENT
DTSTART;VALUE=DATE:20220602
DTEND;VALUE=DATE:20220606
TRANSP:TRANSPARENT
X-MICROSOFT-CDO-ALLDAYEVENT:TRUE
SUMMARY:Deep Creek Lakes 97th Anniversary
DESCRIPTION:Bear Creek Traders celebrates the 97th Anniversary of Deep Creek Lake. Long Sleeve Hooded T-shirts $16.99 (reg. $26.99). Large Selection of Deep Creek Lake Souvenirs.
X-ALT-DESC;FMTTYPE=text/html:Bear Creek Traders celebrates the 97th Anniversary of Deep Creek Lake. Long Sleeve Hooded T-shirts $16.99 (reg. $26.99). Large Selection of Deep Creek Lake Souvenirs.
LOCATION:Market Square Shopping Center\, McHenry\, MD 21541
UID:e.847.37229
SEQUENCE:3
DTSTAMP:20260420T124322Z
URL:https://members.visitdeepcreek.com/events/details/deep-creek-lakes-97th-anniversary-37229
END:VEVENT

END:VCALENDAR
