BEGIN:VCALENDAR
VERSION:2.0
PRODID:-//ChamberMaster//Event Calendar 2.0//EN
METHOD:PUBLISH
X-PUBLISHED-TTL:P3D
REFRESH-INTERVAL:P3D
CALSCALE:GREGORIAN
BEGIN:VEVENT
DTSTART;VALUE=DATE:20220602
DTEND;VALUE=DATE:20220606
TRANSP:TRANSPARENT
X-MICROSOFT-CDO-ALLDAYEVENT:TRUE
SUMMARY:Deep Creek Lake\, Then and Now Map: 97th anniversary sale
DESCRIPTION:We'll be celebrating the launch of our new product - and Deep Creek Lake's 97th anniversary - with a special discount on our new map\, "Deep Creek Lake: Then and Now".  This wall map will regularly sell for $20\, but from June 2-5\, we'll offer it for $9.70 - over 50% off!\n\n\n\nSee Deep Creek Lake like you never have before with our "Then and Now" map.  The base layer is the 1901 topographical and election district map when it was just Deep CREEK\, not Deep Creek Lake.  We've then laid over bathymetry and sonar imagery of the lake bed\, along with current-day roads\, property developments and other modern features. Measuring 24 x 24 inches and printed on semi-gloss paper\, this wall map is prefect for your office\, rental or home.
X-ALT-DESC;FMTTYPE=text/html:We&#39\;ll be celebrating the launch of our new product - and Deep Creek Lake&#39\;s 97th anniversary - with a special discount on our new map\, &quot\;Deep Creek Lake: Then and Now&quot\;.&nbsp\; This wall map will regularly sell for $20\, but from June 2-5\, we&#39\;ll offer it for $9.70 - over 50% off!<br />\n<br />\n<span style="background-color:rgb(255\, 255\, 255)\; color:rgb(89\, 89\, 89)\; font-family:helvetica neue\,helvetica\,arial\,serif\; font-size:14px">See Deep Creek Lake like you never have before with our &quot\;Then and Now&quot\; map.&nbsp\; The base layer is the 1901 topographical and election district map when it was just Deep CREEK\, not Deep Creek Lake.&nbsp\; We&#39\;ve then laid over bathymetry and sonar imagery of the lake bed\, along with current-day roads\, property developments and other modern features. Measuring 24 x 24 inches and printed on semi-gloss paper\, this wall map is prefect for your office\, rental or home.</span>
LOCATION:Online sale. https://narrowshill.com/products/deep-creek-lake-then-and-now-map
UID:e.847.37136
SEQUENCE:3
DTSTAMP:20260420T125056Z
URL:https://members.visitdeepcreek.com/events/details/deep-creek-lake-then-and-now-map-97th-anniversary-sale-37136
END:VEVENT

END:VCALENDAR
