BEGIN:VCALENDAR
VERSION:2.0
PRODID:-//ChamberMaster//Event Calendar 2.0//EN
METHOD:PUBLISH
X-PUBLISHED-TTL:P3D
REFRESH-INTERVAL:P3D
CALSCALE:GREGORIAN
BEGIN:VEVENT
DTSTART:20210911T160000Z
DTEND:20210911T220000Z
X-MICROSOFT-CDO-ALLDAYEVENT:FALSE
SUMMARY:Deep Creek Lake Art & Wine Festival
DESCRIPTION:It's Back! The Deep Creek Lake Art & Wine Festival features 200 wines\, local and regional artisans\, live entertainment\, food\, a Football tent with tap beer\, and more!
X-ALT-DESC;FMTTYPE=text/html:It&#39\;s Back! The Deep Creek Lake Art &amp\; Wine Festival features 200 wines\, local and regional artisans\, live entertainment\, food\, a Football tent with tap beer\, and more!
LOCATION:Garrett County Fairgrounds Mosser Rd.\, McHenry\, MD 21541
UID:e.847.33067
SEQUENCE:3
DTSTAMP:20260421T031632Z
URL:https://members.visitdeepcreek.com/events/details/deep-creek-lake-art-wine-festival-09-11-2021-33067
END:VEVENT

END:VCALENDAR
