BEGIN:VCALENDAR
VERSION:2.0
PRODID:-//ChamberMaster//Event Calendar 2.0//EN
METHOD:PUBLISH
X-PUBLISHED-TTL:P3D
REFRESH-INTERVAL:P3D
CALSCALE:GREGORIAN
BEGIN:VEVENT
DTSTART;VALUE=DATE:20220602
DTEND;VALUE=DATE:20220606
TRANSP:TRANSPARENT
X-MICROSOFT-CDO-ALLDAYEVENT:TRUE
SUMMARY:Deep Creek Fun Zone Celebrates Deep Creek Lake's 97th Anniversary
DESCRIPTION:Join us at Deep Creek Fun Zone as we celebrate Deep Creek Lake's 97th Anniversary!  We will be offering our slushies\, draft beer*\, and miniature golf\, all buy one at regular price\, get one for $.97. Specials are available during regular business hours\, Thursday\, June 2-Sunday\, June 5\, 2022.  There's fun for everyone at Deep Creek Fun Zone.  Come check out everything we have to offer!\n\n*must be of legal drinking age to purchase alcohol with valid ID.
X-ALT-DESC;FMTTYPE=text/html:<p>Join us at Deep Creek Fun Zone as we celebrate Deep Creek Lake&#39\;s 97th Anniversary!&nbsp\; We will be offering our slushies\, draft beer*\, and miniature golf\, all buy one at regular price\, get one for $.97. Specials are available during regular business hours\, Thursday\, June 2-Sunday\, June 5\, 2022.&nbsp\; There&#39\;s fun for everyone at Deep Creek Fun Zone.&nbsp\; Come check out everything we have to offer!</p>\n\n<p>*must be of legal drinking age to purchase alcohol with valid ID.</p>\n
LOCATION:72 Fort Drive McHenry\, MD 21541
UID:e.847.37166
SEQUENCE:3
DTSTAMP:20260420T141554Z
URL:https://members.visitdeepcreek.com/events/details/deep-creek-fun-zone-celebrates-deep-creek-lake-s-97th-anniversary-37166
END:VEVENT

END:VCALENDAR
