BEGIN:VCALENDAR
VERSION:2.0
PRODID:-//ChamberMaster//Event Calendar 2.0//EN
METHOD:PUBLISH
X-PUBLISHED-TTL:P3D
REFRESH-INTERVAL:P3D
CALSCALE:GREGORIAN
BEGIN:VEVENT
DTSTART;VALUE=DATE:20210603
DTEND;VALUE=DATE:20210607
TRANSP:TRANSPARENT
X-MICROSOFT-CDO-ALLDAYEVENT:TRUE
SUMMARY:Deep Creek Fun Zone Celebrates Deep Creek Lake's 96th Anniversary
DESCRIPTION:Join us at Deep Creek Fun Zone as we celebrate Deep Creek Lake's 96th Anniversary!  We will be offering our slushies\, draft beer*\, and miniature golf\, all buy one at regular price\, get one for $.96. Specials are available during regular business hours\, Thursday June 3-Sunday June 6\, 2021.  Come out and check out everything we have to offer!\n\n*must be of legal drinking age to purchase beer
X-ALT-DESC;FMTTYPE=text/html:<p>Join us at Deep Creek Fun Zone as we celebrate Deep Creek Lake&#39\;s 96th Anniversary!&nbsp\; We will be offering our slushies\, draft beer*\, and miniature golf\, all buy one at regular price\, get one for $.96. Specials are available during regular business hours\, Thursday June 3-Sunday June 6\, 2021.&nbsp\; Come out and check out everything we have to offer!</p>\n\n<p>*must be of legal drinking age to purchase beer</p>\n
LOCATION:72 Fort Drive McHenry\, MD 21541
UID:e.847.35065
SEQUENCE:3
DTSTAMP:20260421T094046Z
URL:https://members.visitdeepcreek.com/events/details/deep-creek-fun-zone-celebrates-deep-creek-lake-s-96th-anniversary-35065
END:VEVENT

END:VCALENDAR
