BEGIN:VCALENDAR
VERSION:2.0
PRODID:-//ChamberMaster//Event Calendar 2.0//EN
METHOD:PUBLISH
X-PUBLISHED-TTL:P3D
REFRESH-INTERVAL:P3D
CALSCALE:GREGORIAN
BEGIN:VEVENT
DTSTART:20220417T130000Z
DTEND:20220417T140000Z
X-MICROSOFT-CDO-ALLDAYEVENT:FALSE
SUMMARY:Crossroads Church Easter Services
DESCRIPTION:We have 4 Easter services this year - 4 identical experiences\, and we have Kids Church classes available for kids ages 0-8. Bring out the whole family\, we'd love to celebrate Easter with you!\n\n	Friday\, April 15\, 7 PM\n	Saturday\, April 16\, 7 PM\n	Sunday\, April 17\, 9 AM\n	Sunday\, April 17\, 11 AM
X-ALT-DESC;FMTTYPE=text/html:<span style="color:rgb(111\, 114\, 135)\; font-family:neue plak\,-apple-system\,system-ui\,roboto\,helvetica neue\,helvetica\,tahoma\,arial\,sans-serif\; font-size:16px">We have 4 Easter services this year - 4 identical experiences\, and we have Kids Church classes available for kids ages 0-8. Bring out the whole family\, we&#39\;d love to celebrate Easter with you!</span>\n<ul>\n	<li><span style="color:rgb(111\, 114\, 135)\; font-family:neue plak\,-apple-system\,system-ui\,roboto\,helvetica neue\,helvetica\,tahoma\,arial\,sans-serif\; font-size:16px">Friday\, April 15\, 7 PM</span></li>\n	<li><span style="color:rgb(111\, 114\, 135)\; font-family:neue plak\,-apple-system\,system-ui\,roboto\,helvetica neue\,helvetica\,tahoma\,arial\,sans-serif\; font-size:16px">Saturday\, April 16\, 7 PM</span></li>\n	<li><span style="color:rgb(111\, 114\, 135)\; font-family:neue plak\,-apple-system\,system-ui\,roboto\,helvetica neue\,helvetica\,tahoma\,arial\,sans-serif\; font-size:16px">Sunday\, April 17\, 9 AM</span></li>\n	<li><span style="color:rgb(111\, 114\, 135)\; font-family:neue plak\,-apple-system\,system-ui\,roboto\,helvetica neue\,helvetica\,tahoma\,arial\,sans-serif\; font-size:16px">Sunday\, April 17\, 11 AM</span></li>\n</ul>\n
LOCATION:Crossroads Church\, 17781 Garrett Hwy\, Oakland\, MD 21550
UID:e.847.36809
SEQUENCE:3
DTSTAMP:20260420T154257Z
URL:https://members.visitdeepcreek.com/events/details/crossroads-church-easter-services-36809
END:VEVENT

END:VCALENDAR
