BEGIN:VCALENDAR
VERSION:2.0
PRODID:-//ChamberMaster//Event Calendar 2.0//EN
METHOD:PUBLISH
X-PUBLISHED-TTL:P3D
REFRESH-INTERVAL:P3D
CALSCALE:GREGORIAN
BEGIN:VEVENT
DTSTART:20210611T220000Z
DTEND:20210612T010000Z
X-MICROSOFT-CDO-ALLDAYEVENT:FALSE
SUMMARY:Crandall Creek Bluegrass Band at Sipside!
DESCRIPTION:Nationally renowned bluegrass band Crandall Creek from the Wheeling area returns to Sipside Lounge in historic downtown Oakland this coming Friday evening. Come enjoy chart-topping\, toe-tapping\, thigh-slapping music with an energetic flair. In addition to our vast array of regional craft beers\, exquisite wines and classic spirits/ cocktails we have gourmet charcuterie boards. A Farm to Market food truck is also on premises every Friday and Saturday. In addition to a cool inside space adorned with music memorabilia we also have a 100- seat outdoor patio with a historic massive fireplace as centerpiece.
X-ALT-DESC;FMTTYPE=text/html:Nationally renowned bluegrass band Crandall Creek from the Wheeling area returns to Sipside Lounge in historic downtown Oakland this coming Friday evening. Come enjoy chart-topping\, toe-tapping\, thigh-slapping music with an energetic flair. In addition to our vast array of regional craft beers\, exquisite wines and classic spirits/ cocktails we have gourmet charcuterie boards. A Farm to Market food truck is also on premises every Friday and Saturday. In addition to a cool inside space adorned with music memorabilia we also have a 100- seat outdoor patio with a historic massive fireplace as centerpiece.
LOCATION:119 So. 2nd St. Oakland\, MD 21550
UID:e.847.35923
SEQUENCE:3
DTSTAMP:20260421T081834Z
URL:https://members.visitdeepcreek.com/events/details/crandall-creek-bluegrass-band-at-sipside-35923
END:VEVENT

END:VCALENDAR
