BEGIN:VCALENDAR
VERSION:2.0
PRODID:-//ChamberMaster//Event Calendar 2.0//EN
METHOD:PUBLISH
X-PUBLISHED-TTL:P3D
REFRESH-INTERVAL:P3D
CALSCALE:GREGORIAN
BEGIN:VEVENT
DTSTART:20210828T120000Z
DTEND:20210828T203000Z
X-MICROSOFT-CDO-ALLDAYEVENT:FALSE
SUMMARY:Country Fest & Auction
DESCRIPTION:Country Fest is a family event featuring quilts\, Chicken BBQ\, pony rides\, live animals\, crafts\,  baked goods\, ice cream and much more. Admission and parking are free. Come enjoy spending the day with your family!
X-ALT-DESC;FMTTYPE=text/html:Country Fest is a family event featuring quilts\, Chicken BBQ\, pony rides\, live animals\, crafts\,&nbsp\; baked goods\, ice cream and much more. Admission and parking are free. Come enjoy spending the day with your family!
LOCATION:Located at the Garrett County Fairgrounds at the Deep Creek Lake area in McHenry\, MD.
UID:e.847.34453
SEQUENCE:3
DTSTAMP:20260421T045454Z
URL:https://members.visitdeepcreek.com/events/details/country-fest-auction-08-28-2021-34453
END:VEVENT

END:VCALENDAR
