BEGIN:VCALENDAR
VERSION:2.0
PRODID:-//ChamberMaster//Event Calendar 2.0//EN
METHOD:PUBLISH
X-PUBLISHED-TTL:P3D
REFRESH-INTERVAL:P3D
CALSCALE:GREGORIAN
BEGIN:VEVENT
DTSTART:20220901T213000Z
DTEND:20220901T233000Z
X-MICROSOFT-CDO-ALLDAYEVENT:FALSE
SUMMARY:Cornucopia Music with Nick Savage
DESCRIPTION:For the first time at Cornucopia\, we're happy to welcome Nick Savage and his acoustical stylings all the way from Friendsville to get your long weekend off to a great start. Enjoy live music every Thursday from 5:30-7:30PM.
X-ALT-DESC;FMTTYPE=text/html:<div><span dir="auto" style="color:var(--primary-text)\; font-family:segoe ui historic\,segoe ui\,helvetica\,arial\,sans-serif\; font-size:0.9375rem">For the first time at Cornucopia\, we&#39\;re happy to welcome Nick Savage and his acoustical stylings all the way from Friendsville to get your long weekend off to a great start. Enjoy live music&nbsp\;</span><span style="color:var(--primary-text)\; font-family:segoe ui historic\,segoe ui\,helvetica\,arial\,sans-serif\; font-size:0.9375rem">every Thursday from 5:30-7:30PM.</span></div>\n\n<div>\n<div>\n<div>&nbsp\;</div>\n</div>\n</div>\n
LOCATION:The Cornucopia Cafe 146 Casselman Rd. Grantsville\, MD 21536
UID:e.847.37939
SEQUENCE:3
DTSTAMP:20260420T075848Z
URL:https://members.visitdeepcreek.com/events/details/cornucopia-music-with-nick-savage-37939
END:VEVENT

END:VCALENDAR
