BEGIN:VCALENDAR
VERSION:2.0
PRODID:-//ChamberMaster//Event Calendar 2.0//EN
METHOD:PUBLISH
X-PUBLISHED-TTL:P3D
REFRESH-INTERVAL:P3D
CALSCALE:GREGORIAN
BEGIN:VEVENT
DTSTART:20220118T170000Z
DTEND:20220118T180000Z
X-MICROSOFT-CDO-ALLDAYEVENT:FALSE
SUMMARY:Chamber 101: Maximize Your Membership Webinar - January 18\, 2022
DESCRIPTION:Chamber membership is affordable\, valuable\, and essential to your business but are you getting enough Return on Investment? With all the numerous benefits of membership it's likely you aren't aware of everything the Garrett County Chamber of Commerce can offer you and your business/ organization. We invite you to attend Chamber 101: Maximizing Your Membership on Tuesday\, January 18\, 2022 from 12 noon to 1:00 pm. \n\n\n\nMembership Development Manager Nick Sharps will explain all the ways you can better leverage your membership. Learn how the Chamber functions and what its goals are\, hear about networking and promotional opportunities\, find out how you can get involved in the community\, and discover cost savings programs that can impact your bottom line! A demonstration will also be provided on using the member-exclusive Member Information Center to edit/update your member listing on visitdeepcreek.com\, add postings to our job calendar\, add events to our online calendar\, and more. \n\n\n\nThis event is open to members and non-members alike. If you can't attend we encourage you to send someone from your staff because everyone benefits from membership. This webinar is free. Advance registration is required to receive the link.
X-ALT-DESC;FMTTYPE=text/html:Chamber membership is affordable\, valuable\, and essential to your business but are you getting enough Return on Investment? With all the numerous benefits of membership it&#39\;s likely you aren&#39\;t aware of everything the Garrett County Chamber of Commerce can offer you and your business/ organization. We invite you to attend Chamber 101: Maximizing Your Membership on Tuesday\, January 18\, 2022 from 12 noon to 1:00 pm.&nbsp\;<br />\n<br />\nMembership Development Manager Nick Sharps will explain all the ways you can better leverage your membership. Learn how the Chamber functions and what its goals are\, hear about networking and promotional opportunities\, find out how you can get involved in the community\, and discover cost savings programs that can impact your bottom line! A demonstration will also be provided on using the member-exclusive Member Information Center to edit/update your member listing on visitdeepcreek.com\, add postings to our job calendar\, add events to our online calendar\, and more.&nbsp\;<br />\n<br />\nThis event is open to members and non-members alike. If you can&#39\;t attend we encourage you to send someone from your staff because everyone benefits from membership. This webinar is free. Advance registration is required to receive the link.&nbsp\;
LOCATION:Webinar
UID:e.847.36720
SEQUENCE:3
DTSTAMP:20260420T220739Z
URL:https://members.visitdeepcreek.com/events/details/chamber-101-maximize-your-membership-webinar-january-18-2022-36720
END:VEVENT

END:VCALENDAR
