BEGIN:VCALENDAR
VERSION:2.0
PRODID:-//ChamberMaster//Event Calendar 2.0//EN
METHOD:PUBLISH
X-PUBLISHED-TTL:P3D
REFRESH-INTERVAL:P3D
CALSCALE:GREGORIAN
BEGIN:VEVENT
DTSTART:20210925T150000Z
DTEND:20210925T230000Z
X-MICROSOFT-CDO-ALLDAYEVENT:FALSE
SUMMARY:Celebrate 925 Day at A Mountain Fix - Deep Creek Lake
DESCRIPTION:Celebrate International 925 Day at A Mountain Fix!\n\n \n\nWe carry a huge collection of the world's finest jewelry designs in .925 sterling silver\, so of course we celebrate every year on September 25th!\n\n \n\nStop in for light refreshments as Lois shares facts and stories about the jewelry and the artisans and countries where it originates!\n\n \n\nAND - for 9 hours you get 25% off any jewelry that is .925 sterling!
X-ALT-DESC;FMTTYPE=text/html:<div>Celebrate International 925 Day at A Mountain Fix!<br />\n&nbsp\;</div>\n\n<div>We carry a huge collection of the world&#39\;s finest jewelry designs in .925 sterling silver\, so of course we celebrate every year on September 25th!<br />\n&nbsp\;</div>\n\n<div>Stop in for light refreshments as Lois shares facts and stories about the jewelry and the artisans and countries where it originates!<br />\n&nbsp\;</div>\n\n<div>AND - for 9 hours you get 25% off any jewelry that is .925 sterling!&nbsp\;</div>\n
LOCATION:1550-G Deep Creek Drive\, McHenry\, MD 21541
UID:e.847.33538
SEQUENCE:3
DTSTAMP:20260421T031048Z
URL:https://members.visitdeepcreek.com/events/details/celebrate-925-day-at-a-mountain-fix-deep-creek-lake-33538
END:VEVENT

END:VCALENDAR
