BEGIN:VCALENDAR
VERSION:2.0
PRODID:-//ChamberMaster//Event Calendar 2.0//EN
METHOD:PUBLISH
X-PUBLISHED-TTL:P3D
REFRESH-INTERVAL:P3D
CALSCALE:GREGORIAN
BEGIN:VEVENT
DTSTART:20220719T120000Z
DTEND:20220719T133000Z
X-MICROSOFT-CDO-ALLDAYEVENT:FALSE
SUMMARY:Business Before Hours - State of the County 2022
DESCRIPTION:Join us at Business Before Hours as Garrett County Commissioners Paul Edwards\, Larry Tichnell\, and Jim Hinebaugh provide the Annual State of Garrett County presentation on Tuesday\, July 19 from 8 to 9:30 am downstairs at Ace's Run Restaurant & Pub. This program has been generously sponsored by Clear Mountain Bank and Potomac Edison.
X-ALT-DESC;FMTTYPE=text/html:<span style="font-family:arial\;"><span style="font-size:14px\;">Join us at Business Before Hours as Garrett County Commissioners Paul Edwards\, Larry Tichnell\, and Jim Hinebaugh provide the Annual State of Garrett County presentation on Tuesday\, July 19 from 8 to 9:30 am downstairs at Ace&#39\;s Run Restaurant &amp\; Pub.&nbsp\;</span><span style="font-size:14px\;">This program has been generously sponsored by Clear Mountain Bank and Potomac Edison.&nbsp\;</span></span>
LOCATION:Ace's Run Downstairs 20160 Garrett Hwy Oakland\, MD 21550
UID:e.847.37167
SEQUENCE:3
DTSTAMP:20260420T123818Z
URL:https://members.visitdeepcreek.com/events/details/business-before-hours-state-of-the-county-2022-37167
END:VEVENT

END:VCALENDAR
