BEGIN:VCALENDAR
VERSION:2.0
PRODID:-//ChamberMaster//Event Calendar 2.0//EN
METHOD:PUBLISH
X-PUBLISHED-TTL:P3D
REFRESH-INTERVAL:P3D
CALSCALE:GREGORIAN
BEGIN:VEVENT
DTSTART:20210720T120000Z
DTEND:20210720T133000Z
X-MICROSOFT-CDO-ALLDAYEVENT:FALSE
SUMMARY:Business Before Hours - State of the County 2021
DESCRIPTION:Join Garrett County Commissioners Paul Edwards\, Larry Tichnell\, and James Hinebaugh as they provide the Annual State of Garrett County on July 20th at Wisp Resort in the Crawford Room. The event is sponsored by Clear Mountain Bank and Potomac Edison.
X-ALT-DESC;FMTTYPE=text/html:<span style="font-size:16px\;">Join Garrett County Commissioners Paul Edwards\, Larry&nbsp\;Tichnell\,&nbsp\;and James&nbsp\;Hinebaugh&nbsp\;as they provide the Annual State of Garrett County on July 20th at Wisp Resort in the Crawford Room. The event is sponsored by Clear Mountain Bank and Potomac Edison.</span>
LOCATION:Wisp Resort Crawford Room 296 Marsh Hill Road McHenry\, MD 21541
UID:e.847.33051
SEQUENCE:3
DTSTAMP:20260421T081107Z
URL:https://members.visitdeepcreek.com/events/details/business-before-hours-state-of-the-county-2021-33051
END:VEVENT

END:VCALENDAR
