BEGIN:VCALENDAR
VERSION:2.0
PRODID:-//ChamberMaster//Event Calendar 2.0//EN
METHOD:PUBLISH
X-PUBLISHED-TTL:P3D
REFRESH-INTERVAL:P3D
CALSCALE:GREGORIAN
BEGIN:VEVENT
DTSTART:20220517T120000Z
DTEND:20220517T133000Z
X-MICROSOFT-CDO-ALLDAYEVENT:FALSE
SUMMARY:Business Before Hours - Legislative Wrap-Up 2022
DESCRIPTION:The Garrett County Chamber of Commerce has scheduled its next Business Before Hours for Tuesday\, May 17\, 2022. The "Legislative Wrap-up" will provide legislation information that impacts Garrett County and/or your business. Hear directly from Senator George Edwards and Delegate Wendell Beitzel as they provide a wrap-up session of the Maryland General Assembly. We are excited to announce that this years Business Before Hours events will be hosted downstairs at Ace's Run!\n\n\n\nThe event is sponsored by Byco Enterprises\, Inc. and Garrett Regional Medical Center.
X-ALT-DESC;FMTTYPE=text/html:<span style="font-size:14px\;"><span style="font-family:arial\;">The Garrett County Chamber of Commerce has scheduled its next Business Before Hours for Tuesday\, May 17\, 2022. The &quot\;Legislative Wrap-up&quot\; will provide legislation information that impacts Garrett County and/or your business. Hear directly from Senator George Edwards and Delegate Wendell&nbsp\;Beitzel&nbsp\;as they provide a wrap-up session of the Maryland General Assembly. We are excited to announce that this years Business Before Hours events will be hosted downstairs at Ace&#39\;s Run!<br />\n<br />\nThe event is sponsored by Byco Enterprises\, Inc. and Garrett Regional Medical Center.</span></span>
LOCATION:Ace's Run - Downstairs 20160 Garrett Hwy Oakland\, MD 21550
UID:e.847.37001
SEQUENCE:3
DTSTAMP:20260420T141304Z
URL:https://members.visitdeepcreek.com/events/details/business-before-hours-legislative-wrap-up-2022-37001
END:VEVENT

END:VCALENDAR
