BEGIN:VCALENDAR
VERSION:2.0
PRODID:-//ChamberMaster//Event Calendar 2.0//EN
METHOD:PUBLISH
X-PUBLISHED-TTL:P3D
REFRESH-INTERVAL:P3D
CALSCALE:GREGORIAN
BEGIN:VEVENT
DTSTART:20210928T120000Z
DTEND:20210928T133000Z
X-MICROSOFT-CDO-ALLDAYEVENT:FALSE
SUMMARY:Business Before Hours - Cybersecurity 2021
DESCRIPTION:The next Business Before Hours will be on Tuesday\, September 28\, 8:00 am - 9:30 am in the Crawford Room at Wisp Resort. The topic of discussion is Cybersecurity with Leia T. Shilobod\, President of InTech Solutions\, Inc.\n\n\n\nThis event is sponsored by Garrett College and Premier Power Solutions\, LLC\n\n\n\nLEIA SHILOBOD is the CEO of InTech Solutions\, author of Cyber Warfare: Protecting Your Business From Total Annihilation and The Three Indisputable Rules Every Manufacturer Must Know Before Purchasing Any IT Product or Service. As a cyber security advisor and CMMC Compliance SME\, Leia speaks frequently and has been heard at IT Security Conferences\, Harvard\, IUP\, and MEP's. To help MSP's get and keep their clients compliance\, and internal IT to have a roadmap to functional CMMC success\, Leia created the CMMC IT Documentation Toolkit: a package of functional IT Policies\, Plans\, and Procedures. Leia Shilobod cuts through the hype of cybercrime to provide business owners and managers with a no-frills guide to understanding the threat landscape and what to do to protect yourself and your business when\, not IF you get breached.
X-ALT-DESC;FMTTYPE=text/html:<p><span style="font-family:arial\;"><span style="font-size:14px\;">The&nbsp\;next Business Before Hours will be on Tuesday\, September 28\, 8:00 am - 9:30&nbsp\;am&nbsp\;in the Crawford Room at Wisp Resort. The topic of discussion is Cybersecurity with Leia T. Shilobod\, President of <a href="https://www.intechit.net/">InTech Solutions\, Inc.</a><br />\n<br />\nThis event is sponsored by <a href="https://www.garrettcollege.edu/?gclid=EAIaIQobChMIlPOQnZL88gIVzwaICR2afg1yEAAYASAAEgJ25fD_BwE">Garrett College</a> and&nbsp\;<a href="https://www.visitdeepcreek.com/list/member/premier-power-solutions-llc-427">Premier Power Solutions\, LLC</a><br />\n<br />\nLEIA SHILOBOD is the CEO of InTech Solutions\, author of Cyber Warfare: Protecting Your Business From Total Annihilation and The Three Indisputable Rules Every Manufacturer Must Know Before Purchasing Any IT Product or Service. As a cyber security advisor and CMMC Compliance SME\, Leia speaks frequently and has been heard at IT Security Conferences\, Harvard\, IUP\, and MEP&rsquo\;s. To help MSP&rsquo\;s get and keep their clients compliance\, and internal IT to have a roadmap to functional CMMC success\, Leia created the CMMC IT Documentation Toolkit: a package of functional IT Policies\, Plans\, and Procedures. Leia Shilobod cuts through the hype of cybercrime to provide business owners and managers with a no-frills guide to understanding the threat landscape and what to do to protect yourself and your business when\, not IF you get breached.</span></span><br />\n<br />\n&nbsp\;</p>\n
LOCATION:Wisp Resort Crawford Room 296 Marsh Hill Road McHenry\, MD 21541
UID:e.847.36636
SEQUENCE:3
DTSTAMP:20260421T030750Z
URL:https://members.visitdeepcreek.com/events/details/business-before-hours-cybersecurity-2021-36636
END:VEVENT

END:VCALENDAR
