BEGIN:VCALENDAR
VERSION:2.0
PRODID:-//ChamberMaster//Event Calendar 2.0//EN
METHOD:PUBLISH
X-PUBLISHED-TTL:P3D
REFRESH-INTERVAL:P3D
CALSCALE:GREGORIAN
BEGIN:VEVENT
DTSTART:20211009T170000Z
DTEND:20211009T190000Z
X-MICROSOFT-CDO-ALLDAYEVENT:FALSE
SUMMARY:Building Homes\, Building Hope Auction
DESCRIPTION:Change of Venue!\n\n\n\nDue to the gracious help of our Corporate Sponsors and the fact that fresh air is "the thing" now -\n\n\n\nWe are happy to present the Garrett County Humanity for Humanity Silent/Live Auction "Dessert" event October 9th from 1-3PM\n\n \n\n\n\nSilent Auction begins at 1 PM and live at 2PM\n\n \n\n\n\nWhere: Lions Pavilion at Glades Park (Liberty Street)\n\n \n\n\n\nDesserts served from all your favorite restaurants (one piece per first come first served)\n\n \n\n\n\nItems for Auction? You name it: Tools\, Construction Material\, Home D cor\, Furniture\, Art Works\, Gift Certificates and More!\n\n \n\n\n\nOpen to the public\, free admission!\n\n\n\nBring your Pen for the Silent Auction and we can Provide you a Paddle for the Live!
X-ALT-DESC;FMTTYPE=text/html:<div>\n<div>Change of Venue!</div>\n</div>\n\n<div>\n<div>Due to the gracious help of our Corporate Sponsors and the fact that fresh air is &ldquo\;the thing&rdquo\; now -</div>\n</div>\n\n<div>\n<div>We are happy to present the Garrett County Humanity for Humanity Silent/Live Auction &ldquo\;Dessert&rdquo\; event October 9th from 1-3PM<br />\n&nbsp\;</div>\n</div>\n\n<div>\n<div>Silent Auction begins at 1 PM and live at 2PM<br />\n&nbsp\;</div>\n</div>\n\n<div>\n<div>Where: Lions Pavilion at Glades Park (Liberty Street)<br />\n&nbsp\;</div>\n</div>\n\n<div>\n<div>Desserts served from all your favorite restaurants (one piece per first come first served)<br />\n&nbsp\;</div>\n</div>\n\n<div>\n<div>Items for Auction? You name it: Tools\, Construction Material\, Home D&eacute\;cor\, Furniture\, Art Works\, Gift Certificates and More!<br />\n&nbsp\;</div>\n</div>\n\n<div>\n<div>Open to the public\, free admission!</div>\n</div>\n\n<div>\n<div>Bring your Pen for the Silent Auction and we can Provide you a Paddle for the Live!</div>\n</div>\n
LOCATION:Lions Pavilion at Glades Park\, Oakland\, MD 21550
UID:e.847.36650
SEQUENCE:3
DTSTAMP:20260421T013043Z
URL:https://members.visitdeepcreek.com/events/details/building-homes-building-hope-auction-36650
END:VEVENT

END:VCALENDAR
