BEGIN:VCALENDAR
VERSION:2.0
PRODID:-//ChamberMaster//Event Calendar 2.0//EN
METHOD:PUBLISH
X-PUBLISHED-TTL:P3D
REFRESH-INTERVAL:P3D
CALSCALE:GREGORIAN
BEGIN:VEVENT
DTSTART:20210522T160000Z
DTEND:20210522T180000Z
X-MICROSOFT-CDO-ALLDAYEVENT:FALSE
SUMMARY:Buffalo Run at The Cornucopia Café
DESCRIPTION:Local favorites Buffalo Run will play on our outdoor stage as part of the annual Grantsville National Road Festival!\n\n \n\nEnjoy a spring day out along the "Casselman Riviera" with the many Festival events both at Little Crossings attractions and in town.
X-ALT-DESC;FMTTYPE=text/html:<div><span dir="auto" style="color:var(--primary-text)\; font-family:segoe ui historic\,segoe ui\,helvetica\,arial\,sans-serif\; font-size:0.9375rem">Local favorites Buffalo Run will play on our outdoor stage as part of the annual Grantsville National Road Festival!</span><br />\n&nbsp\;</div>\n\n<div><span dir="auto" style="color:var(--primary-text)\; font-family:segoe ui historic\,segoe ui\,helvetica\,arial\,sans-serif\; font-size:0.9375rem">Enjoy a spring day out along the &quot\;Casselman Riviera&quot\; with the many Festival events both at Little Crossings attractions and in town.</span></div>\n
LOCATION:146 Casselman Rd.\, Grantsville MD 21536
UID:e.847.34461
SEQUENCE:3
DTSTAMP:20260421T093621Z
URL:https://members.visitdeepcreek.com/events/details/buffalo-run-at-the-cornucopia-caf&#233;-34461
END:VEVENT

END:VCALENDAR
